BEGIN:VCALENDAR
VERSION:2.0
PRODID:-//KHG Bayreuth - ECPv6.15.3//NONSGML v1.0//EN
CALSCALE:GREGORIAN
METHOD:PUBLISH
X-ORIGINAL-URL:https://www.khg-in-bayreuth.de
X-WR-CALDESC:Veranstaltungen für KHG Bayreuth
REFRESH-INTERVAL;VALUE=DURATION:PT1H
X-Robots-Tag:noindex
X-PUBLISHED-TTL:PT1H
BEGIN:VTIMEZONE
TZID:Europe/Berlin
BEGIN:DAYLIGHT
TZOFFSETFROM:+0100
TZOFFSETTO:+0200
TZNAME:CEST
DTSTART:20210328T010000
END:DAYLIGHT
BEGIN:STANDARD
TZOFFSETFROM:+0200
TZOFFSETTO:+0100
TZNAME:CET
DTSTART:20211031T010000
END:STANDARD
END:VTIMEZONE
BEGIN:VEVENT
DTSTART;TZID=Europe/Berlin:20211201T123000
DTEND;TZID=Europe/Berlin:20211201T140000
DTSTAMP:20260424T063836
CREATED:20210920T125113Z
LAST-MODIFIED:20211125T231837Z
UID:10004541-1638361800-1638367200@www.khg-in-bayreuth.de
SUMMARY:Mittagspause für Leib und Seele // Lunch break for body and soul
DESCRIPTION:Jeden Mittwoch feiern wir die Mitte der Woche mit einer besonderen Mittagspause: Wir treffen uns um 12.30 Uhr in der KHG-Kapelle zum Mittagsgebet. Anschließend löffeln wir gemeinsam vegetarische Suppe. \nWer Lust hat\, beim Kochen der Suppe zu helfen\, darf gerne vorher (ab ca. 11.00 Uhr) in der KHG-Küche vorbeikommen. Auch eigene Rezepte sind gerne gesehen!\nBitte 2Gplus-Regel beachten! \n\nEvery Wednesday we celebrate the middle of the week with a special lunch break: we meet  at 12.30 in the KHG chapel for midday prayer. Afterwards we spoon vegetarian soup together. \nAnyone who would like to help make the soup is welcome to come to the KHG kitchen beforehand (from about 11.00 a.m.). Your own recipes are also welcome!\nPlease follow the 2Gplus rule!
URL:https://www.khg-in-bayreuth.de/event/mittagspause-fuer-leib-und-seele-lunch-break-for-body-ans-soul-2021-12-01/2021-12-01/
LOCATION:KHG Bayreuth\, Emil-Warburg-Weg 17\, KHG Bayreuth\, 95447\, Deutschland
END:VEVENT
BEGIN:VEVENT
DTSTART;TZID=Europe/Berlin:20211201T190000
DTEND;TZID=Europe/Berlin:20211201T210000
DTSTAMP:20260424T063836
CREATED:20211108T231413Z
LAST-MODIFIED:20211125T231339Z
UID:10004661-1638385200-1638392400@www.khg-in-bayreuth.de
SUMMARY:Adventsandacht im Ökologisch-Botanischen Garten mit dem Swahili Chor Bayreuth
DESCRIPTION:“Und Friede auf Erden …” – unter diesem Motto feiern wir im Ausstellungsraum des Ökologisch-Botanischen Gartens  der Uni Bayreuth am Mittwoch\, dem 01.12.2021 um 19.00 Uhr unsere traditionelle Adventsandacht\, begleitet von afrikanischen Liedern unseres “Swahili Chor Bayreuth”. Im Anschluss treffen wir uns draußen am Feuer zu Punsch und Lebkuchen.\n \nFür die ganze Veranstaltung gilt als Zugangsvoraussetzung 2G plus. Bringt bitte einen Impf-/Genesenennachweis UND einen aktuellen Testnachweis mit! \n\nWe will have our traditional Advent prayer – motto: “And peace on earth …” on Wednesday\, December 01\, 2021\, at 7 pm at the Ecological Botanical Garden (University of Bayreuth)\, accompanied by African chants from our “Suahili Choir Bayreuth”. Afterwards\, we meet outside at the fire with punch and gingerbread. \nFor the whole event admission is only possible with 2G plus. Please bring proof of vaccination/recovery AND Covid19 test not older than 24 hours!
URL:https://www.khg-in-bayreuth.de/event/adventsandacht-im-oekologisch-botanischen-garten-mit-dem-swahili-chor-bayreuth/
LOCATION:KHG Bayreuth\, Emil-Warburg-Weg 17\, KHG Bayreuth\, 95447\, Deutschland
END:VEVENT
BEGIN:VEVENT
DTSTART;TZID=Europe/Berlin:20211201T194500
DTEND;TZID=Europe/Berlin:20211201T220000
DTSTAMP:20260424T063836
CREATED:20210928T202534Z
LAST-MODIFIED:20210928T202534Z
UID:10004582-1638387900-1638396000@www.khg-in-bayreuth.de
SUMMARY:Gospelchor // Gospel Choir
DESCRIPTION:Unser ökumenischer “Gospelchor Bayreuth” probt wieder. Kommt gerne vorbei! \nOur ecumenical “Gospel Choir Bayreuth” is rehearsing again. Come and join them!
URL:https://www.khg-in-bayreuth.de/event/gospelchor-gospel-choir-2/2021-12-01/
LOCATION:KHG Bayreuth\, Emil-Warburg-Weg 17\, KHG Bayreuth\, 95447\, Deutschland
END:VEVENT
END:VCALENDAR