BEGIN:VCALENDAR
VERSION:2.0
PRODID:-//KHG Bayreuth - ECPv6.15.3//NONSGML v1.0//EN
CALSCALE:GREGORIAN
METHOD:PUBLISH
X-ORIGINAL-URL:https://www.khg-in-bayreuth.de
X-WR-CALDESC:Veranstaltungen für KHG Bayreuth
REFRESH-INTERVAL;VALUE=DURATION:PT1H
X-Robots-Tag:noindex
X-PUBLISHED-TTL:PT1H
BEGIN:VTIMEZONE
TZID:Europe/Berlin
BEGIN:DAYLIGHT
TZOFFSETFROM:+0100
TZOFFSETTO:+0200
TZNAME:CEST
DTSTART:20210328T010000
END:DAYLIGHT
BEGIN:STANDARD
TZOFFSETFROM:+0200
TZOFFSETTO:+0100
TZNAME:CET
DTSTART:20211031T010000
END:STANDARD
END:VTIMEZONE
BEGIN:VEVENT
DTSTART;TZID=Europe/Berlin:20211203T183000
DTEND;TZID=Europe/Berlin:20211203T203000
DTSTAMP:20260424T063946
CREATED:20211125T232426Z
LAST-MODIFIED:20211125T232835Z
UID:10004665-1638556200-1638563400@www.khg-in-bayreuth.de
SUMMARY:Deutsch-chinesischer Stammtisch // Chinese Stammtisch
DESCRIPTION:Herzlich willkommen zum deutsch-chinesischen Stammtisch! Spannende Gespräche und Kulturaustausch erwarten Euch. Bitte beachtet die 2Gplus-Regel! \nWelcome to the German-Chinese Stammtisch! Interesting chats and cultural exchange are waiting for you. Please heed the 2Gplus – Rule!
URL:https://www.khg-in-bayreuth.de/event/deutsch-chinesischer-stammtisch-chinese-stammtisch/
LOCATION:KHG Bayreuth\, Emil-Warburg-Weg 17\, KHG Bayreuth\, 95447\, Deutschland
END:VEVENT
END:VCALENDAR