BEGIN:VCALENDAR
VERSION:2.0
PRODID:-//KHG Bayreuth - ECPv6.15.3//NONSGML v1.0//EN
CALSCALE:GREGORIAN
METHOD:PUBLISH
X-ORIGINAL-URL:https://www.khg-in-bayreuth.de
X-WR-CALDESC:Veranstaltungen für KHG Bayreuth
REFRESH-INTERVAL;VALUE=DURATION:PT1H
X-Robots-Tag:noindex
X-PUBLISHED-TTL:PT1H
BEGIN:VTIMEZONE
TZID:Europe/Berlin
BEGIN:DAYLIGHT
TZOFFSETFROM:+0100
TZOFFSETTO:+0200
TZNAME:CEST
DTSTART:20210328T010000
END:DAYLIGHT
BEGIN:STANDARD
TZOFFSETFROM:+0200
TZOFFSETTO:+0100
TZNAME:CET
DTSTART:20211031T010000
END:STANDARD
END:VTIMEZONE
BEGIN:VEVENT
DTSTART;TZID=Europe/Berlin:20211207T200000
DTEND;TZID=Europe/Berlin:20211207T220000
DTSTAMP:20260424T082605
CREATED:20211206T171322Z
LAST-MODIFIED:20211206T171520Z
UID:10004671-1638907200-1638914400@www.khg-in-bayreuth.de
SUMMARY:Spieleabend
DESCRIPTION:Wir treffen uns in der KHG zu einem spontanen Spieleabend. \nWas wir spielen werden\, ist noch völlig offen – bringt also gerne Spiele oder Spielideen\, auf die ihr Lust habt\, mit. \nAchtung: Zutritt nur unter 2G+ Bedingungen! \nWir freuen uns! \n\nWe will meet in the KHG for a spontaneous game night. \nWhat we will play is still completely open – so feel free to bring games or game ideas that you feel like playing. \nAttention: Admission only under 2G+ conditions! \nWe are looking forward to it!
URL:https://www.khg-in-bayreuth.de/event/spieleabend/
LOCATION:KHG Bayreuth\, Emil-Warburg-Weg 17\, KHG Bayreuth\, 95447\, Deutschland
END:VEVENT
END:VCALENDAR