BEGIN:VCALENDAR
VERSION:2.0
PRODID:-//KHG Bayreuth - ECPv6.15.3//NONSGML v1.0//EN
CALSCALE:GREGORIAN
METHOD:PUBLISH
X-WR-CALNAME:KHG Bayreuth
X-ORIGINAL-URL:https://www.khg-in-bayreuth.de
X-WR-CALDESC:Veranstaltungen für KHG Bayreuth
REFRESH-INTERVAL;VALUE=DURATION:PT1H
X-Robots-Tag:noindex
X-PUBLISHED-TTL:PT1H
BEGIN:VTIMEZONE
TZID:Europe/Berlin
BEGIN:DAYLIGHT
TZOFFSETFROM:+0100
TZOFFSETTO:+0200
TZNAME:CEST
DTSTART:20210328T010000
END:DAYLIGHT
BEGIN:STANDARD
TZOFFSETFROM:+0200
TZOFFSETTO:+0100
TZNAME:CET
DTSTART:20211031T010000
END:STANDARD
END:VTIMEZONE
BEGIN:VEVENT
DTSTART;TZID=Europe/Berlin:20211214T183000
DTEND;TZID=Europe/Berlin:20211214T193000
DTSTAMP:20260424T063706
CREATED:20211108T233053Z
LAST-MODIFIED:20211210T131806Z
UID:10004662-1639506600-1639510200@www.khg-in-bayreuth.de
SUMMARY:Regenbogen-Gottesdienst - online // "Rainbow" worship service - online
DESCRIPTION:– English version below – \nUnd Gott sprach: (…) Meinen Bogen setze ich in die Wolken; er soll das Zeichen des Bundes werden zwischen mir und der Erde. (…) Steht der Bogen in den Wolken\, so werde ich auf ihn sehen und des ewigen Bundes gedenken zwischen Gott und allen lebenden Wesen\, allen Wesen aus Fleisch auf der Erde. (Gen 9\,12a.13.16) \nWir feiern einen Online-Gottesdienst im Zeichen des Regenbogens: Der Regenbogen ist zum einen in der jüdischen und christlichen Tradition das Symbol des Bundes zwischen Gott und allen Lebewesen – eines Bundes\, der für alle gilt\, unabhängig von Geschlecht\, Kultur\, Religion\, ja sogar Spezies! Zum anderen ist er seit den Siebziger Jahren auch das Symbol der queeren Bewegungen\, ein Symbol für die Diversität der Geschlechter und sexuellen Orientierungen. \nDer Gottesdienst ist entsprechend offen für alle und soll ein Zeichen für Toleranz und Willkommen setzen. Wir freuen uns besonders\, wenn auch queere Menschen das Angebot wahrnehmen! \nAufgrund der aktuellen Lage findet der Gottesdienst über Zoom statt. Einwahldaten: \nhttps://uni-bayreuth.zoom.us/j/64730735674?pwd=dzUxZVMvL1VrdHRiYVFxQ05rMWtXdz09 \n\n– English version – \nAnd God said: (…) I will set my bow in the clouds; it shall be the sign of the covenant between me and the earth. (…) When the bow is in the clouds\, I will look upon it and remember the everlasting covenant between God and all living creatures\, all creatures of flesh on the earth. (Gen 9:12a\, 13\, 16) \nWe celebrate an online service under the sign of the rainbow: On the one hand\, the rainbow is the symbol of the covenant between God and all living beings in the Jewish and Christian tradition – a covenant that applies to all\, regardless of gender\, culture\, religion\, even species! On the other hand\, since the seventies it has also been the symbol of queer movements\, a symbol of the diversity of genders and sexual orientations. \nThe service is accordingly open to all and is intended to set a sign for tolerance and welcome. We are especially happy if queer people also take up the offer! \nDue to the current situation\, the service will take place via Zoom. Dial-in data: \nhttps://uni-bayreuth.zoom.us/j/64730735674?pwd=dzUxZVMvL1VrdHRiYVFxQ05rMWtXdz09 \n  \n 
URL:https://www.khg-in-bayreuth.de/event/regenbogen-gottesdienst-mit-ak-queer/
LOCATION:Online via Zoom\, Deutschland
END:VEVENT
BEGIN:VEVENT
DTSTART;TZID=Europe/Berlin:20211214T200000
DTEND;TZID=Europe/Berlin:20211214T220000
DTSTAMP:20260424T063706
CREATED:20210915T112613Z
LAST-MODIFIED:20211214T120319Z
UID:10004539-1639512000-1639519200@www.khg-in-bayreuth.de
SUMMARY:"Gendern" in der Praxis (online) // Gender-sensitive language in practical use
DESCRIPTION:Welche Ausprägungen gendersensibler Sprache gibt es und wann setze ich im Alltag nun am besten welche der in Rede stehenden Möglichkeiten ein? \nFrau Professorin Dr. Karin Birkner\, Inhaberin des Lehrstuhls für Germanistische Linguistik an der Universität Bayreuth sowie stellvertretende Frauenbeauftragte der Universität Bayreuth\, wird Hinweise geben und erörtern\, wie gendersensible Sprache und ihre verschiedenen Formen in verschiedenen Kontexten und alltäglichen Situationen sinnvoll eingesetzt werden können. \nZum Hintergrund: Nachdem im vergangenen Sommersemester eine Podiumsdiskussion zu den theoretischen Hintergründen der gendersensiblen Sprache stattfand\, ist es nun an der Zeit\, sich auch der praktischen Umsetzung und Anwendung zu widmen. (Eine Teilnahme an der Podiumsdiskussion ist aber keineswegs Voraussetzung für die Teilnahme an der nun kommenden Veranstaltung!) \nDie Veranstaltung findet online statt. Bitte nach Möglichkeit einen Rechner benutzen! Zoom-Link:\nhttps://uni-bayreuth.zoom.us/j/64730735674?pwd=dzUxZVMvL1VrdHRiYVFxQ05rMWtXdz09 \n\n\n\nWhat forms of gender-sensitive language are there in German and when is it best to use which of the options in question in everyday life? \nProfessor Dr Karin Birkner\, Chair of German Linguistics at the University of Bayreuth and Deputy Women’s Representative at the University of Bayreuth\, will give advice and discuss how gender-sensitive language and its various forms can be used reasonably in different contexts and everyday situations. \nBackground: After a panel discussion on the theoretical background of gender-sensitive language that took place in the last summer semester\, it is now time to also address the practical implementation and application. (However\, participation in the panel discussion is by no means a prerequisite for participation in the upcoming event).\nThe event will take place online. Please use a computer if possible. Zoom-link: \nhttps://uni-bayreuth.zoom.us/j/64730735674?pwd=dzUxZVMvL1VrdHRiYVFxQ05rMWtXdz09 \n\n 
URL:https://www.khg-in-bayreuth.de/event/gendern-in-der-praxis-gendering-in-practice/
LOCATION:Online via Zoom\, Deutschland
END:VEVENT
END:VCALENDAR