BEGIN:VCALENDAR
VERSION:2.0
PRODID:-//KHG Bayreuth - ECPv6.15.3//NONSGML v1.0//EN
CALSCALE:GREGORIAN
METHOD:PUBLISH
X-WR-CALNAME:KHG Bayreuth
X-ORIGINAL-URL:https://www.khg-in-bayreuth.de
X-WR-CALDESC:Veranstaltungen für KHG Bayreuth
REFRESH-INTERVAL;VALUE=DURATION:PT1H
X-Robots-Tag:noindex
X-PUBLISHED-TTL:PT1H
BEGIN:VTIMEZONE
TZID:Europe/Berlin
BEGIN:DAYLIGHT
TZOFFSETFROM:+0100
TZOFFSETTO:+0200
TZNAME:CEST
DTSTART:20210328T010000
END:DAYLIGHT
BEGIN:STANDARD
TZOFFSETFROM:+0200
TZOFFSETTO:+0100
TZNAME:CET
DTSTART:20211031T010000
END:STANDARD
END:VTIMEZONE
BEGIN:VEVENT
DTSTART;TZID=Europe/Berlin:20211215T123000
DTEND;TZID=Europe/Berlin:20211215T140000
DTSTAMP:20260424T082428
CREATED:20210920T125113Z
LAST-MODIFIED:20211125T231837Z
UID:10004543-1639571400-1639576800@www.khg-in-bayreuth.de
SUMMARY:Mittagspause für Leib und Seele // Lunch break for body and soul
DESCRIPTION:Jeden Mittwoch feiern wir die Mitte der Woche mit einer besonderen Mittagspause: Wir treffen uns um 12.30 Uhr in der KHG-Kapelle zum Mittagsgebet. Anschließend löffeln wir gemeinsam vegetarische Suppe. \nWer Lust hat\, beim Kochen der Suppe zu helfen\, darf gerne vorher (ab ca. 11.00 Uhr) in der KHG-Küche vorbeikommen. Auch eigene Rezepte sind gerne gesehen!\nBitte 2Gplus-Regel beachten! \n\nEvery Wednesday we celebrate the middle of the week with a special lunch break: we meet  at 12.30 in the KHG chapel for midday prayer. Afterwards we spoon vegetarian soup together. \nAnyone who would like to help make the soup is welcome to come to the KHG kitchen beforehand (from about 11.00 a.m.). Your own recipes are also welcome!\nPlease follow the 2Gplus rule!
URL:https://www.khg-in-bayreuth.de/event/mittagspause-fuer-leib-und-seele-lunch-break-for-body-ans-soul-2021-12-01/2021-12-15/
LOCATION:KHG Bayreuth\, Emil-Warburg-Weg 17\, KHG Bayreuth\, 95447\, Deutschland
END:VEVENT
BEGIN:VEVENT
DTSTART;TZID=Europe/Berlin:20211215T194500
DTEND;TZID=Europe/Berlin:20211215T220000
DTSTAMP:20260424T082428
CREATED:20210928T202534Z
LAST-MODIFIED:20210928T202534Z
UID:10004584-1639597500-1639605600@www.khg-in-bayreuth.de
SUMMARY:Gospelchor // Gospel Choir
DESCRIPTION:Unser ökumenischer “Gospelchor Bayreuth” probt wieder. Kommt gerne vorbei! \nOur ecumenical “Gospel Choir Bayreuth” is rehearsing again. Come and join them!
URL:https://www.khg-in-bayreuth.de/event/gospelchor-gospel-choir-2/2021-12-15/
LOCATION:KHG Bayreuth\, Emil-Warburg-Weg 17\, KHG Bayreuth\, 95447\, Deutschland
END:VEVENT
BEGIN:VEVENT
DTSTART;TZID=Europe/Berlin:20211215T200000
DTEND;TZID=Europe/Berlin:20211215T220000
DTSTAMP:20260424T082428
CREATED:20211201T150514Z
LAST-MODIFIED:20211210T225810Z
UID:10004670-1639598400-1639605600@www.khg-in-bayreuth.de
SUMMARY:Ökumenische Waldweihnacht // Forest Christmas
DESCRIPTION:Wie letztes Jahr treffen wir uns erneut zu einer ökumenischen Waldweihnacht in der Adventszeit! \nDieses Mal treffen wir uns zunächst um 20:00 am Bayreuther Festspielhaus (Festspielhügel 1-2\, 95445 Bayreuth). Von dort wandern wir dann alle gemeinsam in den Wald\, wo wir am Feuer Gottesdienst feiern. Anschließend gibt es noch ein Beisammensein mit Punsch und Glühwein. Es wird zudem wieder gewichtelt! \nWenn ihr am Wichteln teilnehmen wollt\, nehmt bitte einfach ein Wichtelgeschenk (es sollte aus einem einzigen Teil bestehen) im Wert von 3-5 € mit – neu oder gebraucht. Äußerst wichtig für alle Teilnehmer sind feste Wanderschuhe und warme\, wetterfeste Kleidung. Es kann sehr kalt werden! Auch Taschenlampen sollten mitgenommen werden. \nWir freuen uns darauf\, mit euch allen eine lustige und besinnliche Weihnachtsfeier in der Natur zu feiern. Dazu sind alle ausdrücklich eingeladen! \n\nLike last year\, we will meet again for an ecumenical Forest Christmas during Advent! \nThis time we will first meet at 20:00 at the Bayreuth Festival House (Festspielhügel 1-2\, 95445 Bayreuth). From there we will all walk together into the forest where we will celebrate an advent service by the fire. Afterwards there will be a get-together with punch and mulled wine. There will also be a Secret Santa again! \nIf you want to take part in the Secret Santa\, please bring a Secret Santa gift (it should consist of a single item) worth 3-5 € – new or used. Extremely important for all participants are sturdy walking shoes and warm\, weatherproof clothing. It can get very cold! Flashlights should also be brought along. \nWe look forward to celebrating a fun and reflective Christmas in nature with all of you. All are expressly invited to attend!
URL:https://www.khg-in-bayreuth.de/event/oekumenische-waldweihnacht/
LOCATION:Festspielhaus Bayreuth\, Festspielhügel 1-2\, Bayreuth\, 95445\, Deutschland
END:VEVENT
END:VCALENDAR