BEGIN:VCALENDAR
VERSION:2.0
PRODID:-//KHG Bayreuth - ECPv6.15.3//NONSGML v1.0//EN
CALSCALE:GREGORIAN
METHOD:PUBLISH
X-ORIGINAL-URL:https://www.khg-in-bayreuth.de
X-WR-CALDESC:Veranstaltungen für KHG Bayreuth
REFRESH-INTERVAL;VALUE=DURATION:PT1H
X-Robots-Tag:noindex
X-PUBLISHED-TTL:PT1H
BEGIN:VTIMEZONE
TZID:Europe/Berlin
BEGIN:DAYLIGHT
TZOFFSETFROM:+0100
TZOFFSETTO:+0200
TZNAME:CEST
DTSTART:20210328T010000
END:DAYLIGHT
BEGIN:STANDARD
TZOFFSETFROM:+0200
TZOFFSETTO:+0100
TZNAME:CET
DTSTART:20211031T010000
END:STANDARD
BEGIN:DAYLIGHT
TZOFFSETFROM:+0100
TZOFFSETTO:+0200
TZNAME:CEST
DTSTART:20220327T010000
END:DAYLIGHT
BEGIN:STANDARD
TZOFFSETFROM:+0200
TZOFFSETTO:+0100
TZNAME:CET
DTSTART:20221030T010000
END:STANDARD
END:VTIMEZONE
BEGIN:VEVENT
DTSTART;VALUE=DATE:20211224
DTEND;VALUE=DATE:20220110
DTSTAMP:20260424T045915
CREATED:20211210T110620Z
LAST-MODIFIED:20211210T111011Z
UID:10004682-1640304000-1641772799@www.khg-in-bayreuth.de
SUMMARY:Weihnachtspause // Christmas break
DESCRIPTION:Über die Weihnachtsfeiertage ist die KHG (ebenso wie die Universität) geschlossen. In seelsorglichen Notfällen bitte an die Pfarrei St. Hedwig oder an die Notfallseelsorge wenden! \nThe KHG will be closed over the Christmas holidays (just like the University). In case of pastoral emergency\, please contact the Parish of St. Hedwig or the Pastoral Care Emergency services: \nSt. Hedwig: https://sthedwig-bayreuth.kirche-bamberg.de/index.html \nNotfallseelsorge / Pastoral Care Emergency Services: https://notfallseelsorge.de/beratungsstellen.html
URL:https://www.khg-in-bayreuth.de/event/weihnachtspause-christmas-break-2/
LOCATION:KHG Bayreuth\, Emil-Warburg-Weg 17\, KHG Bayreuth\, 95447\, Deutschland
END:VEVENT
BEGIN:VEVENT
DTSTART;TZID=Europe/Berlin:20220106T133000
DTEND;TZID=Europe/Berlin:20220106T150000
DTSTAMP:20260424T045915
CREATED:20211022T082546Z
LAST-MODIFIED:20211025T175742Z
UID:10004644-1641475800-1641481200@www.khg-in-bayreuth.de
SUMMARY:International Bible group
DESCRIPTION:The Bible unites all Christians – so we’re going to share it ecumenically.  \nWe’re going to use the method of “bible sharing”: reading a short text and meditating on it. What has it to say for me\, for my life\, but also for us as a community? \nThe group will take place alternately at KHG and ESG. We’ll start at KHG the 28th of October 2021\, 13.30 hrs. The language will be English.
URL:https://www.khg-in-bayreuth.de/event/international-bible-group/2022-01-06/
LOCATION:KHG Bayreuth\, Emil-Warburg-Weg 17\, KHG Bayreuth\, 95447\, Deutschland
END:VEVENT
BEGIN:VEVENT
DTSTART;TZID=Europe/Berlin:20220106T201500
DTEND;TZID=Europe/Berlin:20220106T230000
DTSTAMP:20260424T045915
CREATED:20210928T202126Z
LAST-MODIFIED:20210928T202126Z
UID:10004567-1641500100-1641510000@www.khg-in-bayreuth.de
SUMMARY:Swahili Chor Bayreuth // Suahili Choir Bayreuth
DESCRIPTION:Unser “Swahili Chor Bayreuth” probt wieder! Neue Sänger:innen sind jederzeit herzlich willkommen. \nOur “Suahili Choir Bayreuth” is rehearsing again. New singers are always welcome!
URL:https://www.khg-in-bayreuth.de/event/swahili-chor-bayreuth-suahili-choir-bayreuth/2022-01-06/
LOCATION:KHG Bayreuth\, Emil-Warburg-Weg 17\, KHG Bayreuth\, 95447\, Deutschland
END:VEVENT
END:VCALENDAR