BEGIN:VCALENDAR
VERSION:2.0
PRODID:-//KHG Bayreuth - ECPv6.15.3//NONSGML v1.0//EN
CALSCALE:GREGORIAN
METHOD:PUBLISH
X-WR-CALNAME:KHG Bayreuth
X-ORIGINAL-URL:https://www.khg-in-bayreuth.de
X-WR-CALDESC:Veranstaltungen für KHG Bayreuth
REFRESH-INTERVAL;VALUE=DURATION:PT1H
X-Robots-Tag:noindex
X-PUBLISHED-TTL:PT1H
BEGIN:VTIMEZONE
TZID:Europe/Berlin
BEGIN:DAYLIGHT
TZOFFSETFROM:+0100
TZOFFSETTO:+0200
TZNAME:CEST
DTSTART:20220327T010000
END:DAYLIGHT
BEGIN:STANDARD
TZOFFSETFROM:+0200
TZOFFSETTO:+0100
TZNAME:CET
DTSTART:20221030T010000
END:STANDARD
END:VTIMEZONE
BEGIN:VEVENT
DTSTART;TZID=Europe/Berlin:20220111T200000
DTEND;TZID=Europe/Berlin:20220111T220000
DTSTAMP:20260424T063717
CREATED:20211210T020026Z
LAST-MODIFIED:20211223T193230Z
UID:10004673-1641931200-1641938400@www.khg-in-bayreuth.de
SUMMARY:Literatur- und Lesenacht // Reading and literature night
DESCRIPTION:Herzliche Einladung zu unserem Literatur- und Leseabend an alle Bücherwürmer und solche\, die es werden wollen! \nWir treffen uns in gemütlicher Runde bei Kakao oder Punsch und selbstgemachten Plätzchen\, tauschen uns über unsere Lieblingsbücher aus und testen unsere Kreativität bei lockeren Quiz- und Schreibspielen. \nBitte bringt Euer Lieblings(kinder)buch und eine Kuscheldecke mit! \nEs gelten die aktuellen Corona-Regeln (nach derzeitigem Stand 2Gplus)\, bitte Nachweise bereit halten! \n\n– English version – \nA warm invitation to our literature and reading evening to all bookworms and those who want to become one! \nWe will meet in a cosy atmosphere with cocoa or punch and homemade biscuits\, talk about our favourite books and test our creativity with relaxed quizzes and writing games. \nPlease bring your favourite (children’s) book and a cuddly blanket! \nThe current Corona rules apply (according to the current status 2Gplus)\, please have proof ready! \n 
URL:https://www.khg-in-bayreuth.de/event/lese-und-naturnacht-reading-and-nature-night/
LOCATION:KHG Bayreuth\, Emil-Warburg-Weg 17\, KHG Bayreuth\, 95447\, Deutschland
END:VEVENT
END:VCALENDAR