BEGIN:VCALENDAR
VERSION:2.0
PRODID:-//KHG Bayreuth - ECPv6.15.3//NONSGML v1.0//EN
CALSCALE:GREGORIAN
METHOD:PUBLISH
X-ORIGINAL-URL:https://www.khg-in-bayreuth.de
X-WR-CALDESC:Veranstaltungen für KHG Bayreuth
REFRESH-INTERVAL;VALUE=DURATION:PT1H
X-Robots-Tag:noindex
X-PUBLISHED-TTL:PT1H
BEGIN:VTIMEZONE
TZID:Europe/Berlin
BEGIN:DAYLIGHT
TZOFFSETFROM:+0100
TZOFFSETTO:+0200
TZNAME:CEST
DTSTART:20220327T010000
END:DAYLIGHT
BEGIN:STANDARD
TZOFFSETFROM:+0200
TZOFFSETTO:+0100
TZNAME:CET
DTSTART:20221030T010000
END:STANDARD
END:VTIMEZONE
BEGIN:VEVENT
DTSTART;TZID=Europe/Berlin:20220118T200000
DTEND;TZID=Europe/Berlin:20220118T220000
DTSTAMP:20260424T063903
CREATED:20211210T020303Z
LAST-MODIFIED:20220114T102821Z
UID:10004674-1642536000-1642543200@www.khg-in-bayreuth.de
SUMMARY:Jüdisches Leben – das “Fest der Bäume”// Jewish life – the “Festival of Trees”
DESCRIPTION:– English version below – \nTu biSchevat (ט״ו בשבט)\, das “Neujahrsfest der Bäume”\, ist eines der weniger bekannten Feste im jüdischen Jahreskreis. Es wird in diesem Jahr am 17. Januar gefeiert und steht für einen dankbaren und verantwortungsvollen Umgang mit der Natur. \nRabbinerin Dr. Antje Yael Deusel wird uns die Hintergründe dieses Festes erläutern und auch ganz allgemein als Gesprächspartnerin für jüdisches Leben zur Verfügung stehen. \nDie Veranstaltung findet online statt. \nZoom-Meeting beitreten\nhttps://uni-bayreuth.zoom.us/j/67668337986?pwd=RHlDc0FHSzd1VGx1WGNNZElTM29udz09\n\nMeeting-ID: 676 6833 7986\nKenncode: 006052\nSchnelleinwahl mobil\n+496950502596\,\,67668337986#\,\,\,\,*006052# Deutschland\n+496971049922\,\,67668337986#\,\,\,\,*006052# Deutschland\n\nEinwahl nach aktuellem Standort\n        +49 695 050 2596 Deutschland\n        +49 69 7104 9922 Deutschland\nMeeting-ID: 676 6833 7986\nKenncode: 006052\nOrtseinwahl suchen: https://uni-bayreuth.zoom.us/u/czihyKRWQ\n\nÜber SIP beitreten\n67668337986@fr.zmeu.us\n\nÜber H.323 beitreten\n213.19.144.110 (Amsterdam\n Niederlande)\n213.244.140.110 (Deutschland)\n207.226.132.110 (Japan Tokio)\n149.137.24.110 (Japan Osaka)\nKenncode: 006052\nMeeting-ID: 676 6833 7986\n\nÜber Skype for Business beitreten\nhttps://uni-bayreuth.zoom.us/skype/67668337986\n\n\n– English version – \nTu biShevat (ט״ו בשבט)\, the “New Year Festival of Trees”\, is one of the lesser known festivals in the Jewish calendar. It is celebrated this year on 17 January and stands for a grateful and responsible approach to nature. \nRabbi Dr Antje Yael Deusel will explain the background of this festival and will also be available as a discussion partner for Jewish life in general. \nThe event will take place online. \nZoom-Meeting beitreten\nhttps://uni-bayreuth.zoom.us/j/67668337986?pwd=RHlDc0FHSzd1VGx1WGNNZElTM29udz09\n\nMeeting-ID: 676 6833 7986\nKenncode: 006052\nSchnelleinwahl mobil\n+496950502596\,\,67668337986#\,\,\,\,*006052# Deutschland\n+496971049922\,\,67668337986#\,\,\,\,*006052# Deutschland\n\nEinwahl nach aktuellem Standort\n        +49 695 050 2596 Deutschland\n        +49 69 7104 9922 Deutschland\nMeeting-ID: 676 6833 7986\nKenncode: 006052\nOrtseinwahl suchen: https://uni-bayreuth.zoom.us/u/czihyKRWQ\n\nÜber SIP beitreten\n67668337986@fr.zmeu.us\n\nÜber H.323 beitreten\n213.19.144.110 (Amsterdam\n Niederlande)\n213.244.140.110 (Deutschland)\n207.226.132.110 (Japan Tokio)\n149.137.24.110 (Japan Osaka)\nKenncode: 006052\nMeeting-ID: 676 6833 7986\n\nÜber Skype for Business beitreten\nhttps://uni-bayreuth.zoom.us/skype/67668337986\n\n 
URL:https://www.khg-in-bayreuth.de/event/juedisches-leben-in-israel-das-fest-der-baeume-jewish-life-in-israel-the-festival-of-trees/
LOCATION:KHG Bayreuth\, Emil-Warburg-Weg 17\, KHG Bayreuth\, 95447\, Deutschland
END:VEVENT
END:VCALENDAR