BEGIN:VCALENDAR
VERSION:2.0
PRODID:-//KHG Bayreuth - ECPv6.15.3//NONSGML v1.0//EN
CALSCALE:GREGORIAN
METHOD:PUBLISH
X-WR-CALNAME:KHG Bayreuth
X-ORIGINAL-URL:https://www.khg-in-bayreuth.de
X-WR-CALDESC:Veranstaltungen für KHG Bayreuth
REFRESH-INTERVAL;VALUE=DURATION:PT1H
X-Robots-Tag:noindex
X-PUBLISHED-TTL:PT1H
BEGIN:VTIMEZONE
TZID:Europe/Berlin
BEGIN:DAYLIGHT
TZOFFSETFROM:+0100
TZOFFSETTO:+0200
TZNAME:CEST
DTSTART:20220327T010000
END:DAYLIGHT
BEGIN:STANDARD
TZOFFSETFROM:+0200
TZOFFSETTO:+0100
TZNAME:CET
DTSTART:20221030T010000
END:STANDARD
END:VTIMEZONE
BEGIN:VTIMEZONE
TZID:UTC
BEGIN:STANDARD
TZOFFSETFROM:+0000
TZOFFSETTO:+0000
TZNAME:UTC
DTSTART:20220101T000000
END:STANDARD
END:VTIMEZONE
BEGIN:VEVENT
DTSTART;TZID=Europe/Berlin:20220124T070000
DTEND;TZID=Europe/Berlin:20220124T073000
DTSTAMP:20260424T045745
CREATED:20210929T102626Z
LAST-MODIFIED:20211017T002244Z
UID:10004615-1643007600-1643009400@www.khg-in-bayreuth.de
SUMMARY:Frühschicht mit Frühstück // Morning prayer with breakfast
DESCRIPTION:Zweiwöchentlich am Montag treffen wir uns während der Vorlesungszeit um 07:00 Uhr zu einer kurzen Morgenandacht mit anschl. Frühstück in der KHG. An den dazwischenliegenden Montagen seid Ihr sehr herzlich zum “Bet- und Breakfast” in der ESG eingeladen!\n____________________________________________________________________________________________\nEvery second week on Monday during the lecture period we meet at 07:00 for a short morning devotion followed by breakfast in the KHG. On the Mondays in between\, you are very welcome to join the “Prayer and Breakfast” at the ESG!
URL:https://www.khg-in-bayreuth.de/event/oekumenisches-morgengebet-anschl-fruehstueck-ecumenical-morning-prayer-followed-by-breakfast/2022-01-24/
LOCATION:KHG Bayreuth\, Emil-Warburg-Weg 17\, KHG Bayreuth\, 95447\, Deutschland
END:VEVENT
BEGIN:VEVENT
DTSTART;TZID=UTC:20220124T170000
DTEND;TZID=UTC:20220124T190000
DTSTAMP:20260424T045745
CREATED:20190228T173552Z
LAST-MODIFIED:20190228T173552Z
UID:10003912-1643043600-1643050800@www.khg-in-bayreuth.de
SUMMARY:Bibelteilen // sharing the bible
DESCRIPTION:– English version below – \nNach der Methode des “Bibelteilens in sieben Schritten” bringen wir biblische Texte zusammen mit eigenen Lebenserfahrungen\, Fragen und Zweifeln. So begeben wir uns gemeinsam auf die Suche: Was ist jetzt “dran” für mich/ für uns? Wie kann ich das\, was ich denke\, fühle und erlebe\, anhand der biblischen Überlieferung deuten? Was ist jetzt zu tun?\nHerzliche Einladung an alle Gläubigen\, Agnostiker\, Atheisten\, Sinnsucher/-innen und Leute\, die etwas bewegen wollen! \nJeden Montag um 17.00 Uhr in der KHG (Frühstücksecke im Untergeschoss – ganz hinten). \n– English version – \nFollowing the “sharing the bible in seven steps” method\, we combine biblical texts with personal experiences\, doubts and questions. Thus we engage on a shared quest: What is “due” for me/ for us now? How can I interpret my own reality in the light of the gospel? \nEveryone’s invited to share\, regardless of culture or religon. \nEvery Monday at 5 pm in the KHG (breakfast table in the basement – at the rear).
URL:https://www.khg-in-bayreuth.de/event/bibelteilen-sharing-the-bible-22/2022-01-24/
END:VEVENT
BEGIN:VEVENT
DTSTART;TZID=Europe/Berlin:20220124T180000
DTEND;TZID=Europe/Berlin:20220124T210000
DTSTAMP:20260424T045745
CREATED:20211017T024342Z
LAST-MODIFIED:20220121T121531Z
UID:10004628-1643047200-1643058000@www.khg-in-bayreuth.de
SUMMARY:Theatergruppe "Die schwarzen Schafe" // Theatre group
DESCRIPTION:Unsere Theatergruppe “Die schwarzen Schafe” trifft sich jeden Montag. Derzeit probt sie das Stück “Zeit der Schuldlosen” von Siegfried Lenz. Aufführungen sind am Ende der Vorlesungszeit geplant\, können aber je nach aktueller Infektions- und Rechtslage noch verschoben werden. \n\nOur theatre group “The Black Sheep” meets every Monday. At the moment\, they rehearse the play “Zeit der Schuldlosen” (Time of the Innocent) by Siegfried Lenz. Performances are planned at the end of lecture time\, but it is possible that they will be postponed due to the current Covid19 situation.
URL:https://www.khg-in-bayreuth.de/event/theatergruppe-die-schwarzen-schafe-theatre-group-2-2022-01-24/2022-01-24/
LOCATION:KHG Bayreuth\, Emil-Warburg-Weg 17\, KHG Bayreuth\, 95447\, Deutschland
END:VEVENT
END:VCALENDAR