BEGIN:VCALENDAR
VERSION:2.0
PRODID:-//KHG Bayreuth - ECPv6.15.3//NONSGML v1.0//EN
CALSCALE:GREGORIAN
METHOD:PUBLISH
X-ORIGINAL-URL:https://www.khg-in-bayreuth.de
X-WR-CALDESC:Veranstaltungen für KHG Bayreuth
REFRESH-INTERVAL;VALUE=DURATION:PT1H
X-Robots-Tag:noindex
X-PUBLISHED-TTL:PT1H
BEGIN:VTIMEZONE
TZID:Europe/Berlin
BEGIN:DAYLIGHT
TZOFFSETFROM:+0100
TZOFFSETTO:+0200
TZNAME:CEST
DTSTART:20220327T010000
END:DAYLIGHT
BEGIN:STANDARD
TZOFFSETFROM:+0200
TZOFFSETTO:+0100
TZNAME:CET
DTSTART:20221030T010000
END:STANDARD
END:VTIMEZONE
BEGIN:VEVENT
DTSTART;TZID=Europe/Berlin:20220201T180000
DTEND;TZID=Europe/Berlin:20220201T220000
DTSTAMP:20260424T032207
CREATED:20211210T022736Z
LAST-MODIFIED:20220121T192208Z
UID:10004678-1643738400-1643752800@www.khg-in-bayreuth.de
SUMMARY:Planungsnacht mit Pizza // Planning night with pizza
DESCRIPTION:Eure Ideen und Euer Engagement sind gefragt! Gemeinsam planen wir das Sommersemester 2022. Zwischendurch stärken wir uns mit Pizza. Alle\, die sich am KHG-Leben beteiligen wollen\, sind herzlich willkommen! \n\nYour ideas and your commitment are needed! Together we will plan the summer semester 2022. In between we will strengthen ourselves with pizza. Everyone who wants to get involved in KHG life is very welcome!
URL:https://www.khg-in-bayreuth.de/event/planungsnacht-planing-night/
LOCATION:KHG Bayreuth\, Emil-Warburg-Weg 17\, KHG Bayreuth\, 95447\, Deutschland
END:VEVENT
END:VCALENDAR