BEGIN:VCALENDAR
VERSION:2.0
PRODID:-//KHG Bayreuth - ECPv6.15.3//NONSGML v1.0//EN
CALSCALE:GREGORIAN
METHOD:PUBLISH
X-WR-CALNAME:KHG Bayreuth
X-ORIGINAL-URL:https://www.khg-in-bayreuth.de
X-WR-CALDESC:Veranstaltungen für KHG Bayreuth
REFRESH-INTERVAL;VALUE=DURATION:PT1H
X-Robots-Tag:noindex
X-PUBLISHED-TTL:PT1H
BEGIN:VTIMEZONE
TZID:Europe/Berlin
BEGIN:DAYLIGHT
TZOFFSETFROM:+0100
TZOFFSETTO:+0200
TZNAME:CEST
DTSTART:20220327T010000
END:DAYLIGHT
BEGIN:STANDARD
TZOFFSETFROM:+0200
TZOFFSETTO:+0100
TZNAME:CET
DTSTART:20221030T010000
END:STANDARD
END:VTIMEZONE
BEGIN:VEVENT
DTSTART;TZID=Europe/Berlin:20220205T190000
DTEND;TZID=Europe/Berlin:20220205T220000
DTSTAMP:20260424T032124
CREATED:20211210T023433Z
LAST-MODIFIED:20220202T114232Z
UID:10004681-1644087600-1644098400@www.khg-in-bayreuth.de
SUMMARY:Ökumenischer Semesterschlussgottesdienst  // Ecumenical end-of-semester service
DESCRIPTION:Wir laden alle Studierenden und Uni-Angestellten zum ökumenischen Semesterschlussgottesdienst (3G) in die Stadtkirche mit dem Gospelchor ein. Anschließend Ausklang in der ESG (2Gplus) – Testmöglichkeiten in der Nähe. \n\nWe invite all students and university employees to the ecumenical end-of-semester service (3G) in the Stadtkirche with the gospel choir. Afterwards\, the evening will end in the ESG (2Gplus) – testing opportunities nearby. \n 
URL:https://www.khg-in-bayreuth.de/event/oekumenischer-semesterschlussgottesdienst-ecumenical-end-of-semester-service/
LOCATION:KHG Bayreuth\, Emil-Warburg-Weg 17\, KHG Bayreuth\, 95447\, Deutschland
END:VEVENT
END:VCALENDAR