BEGIN:VCALENDAR
VERSION:2.0
PRODID:-//KHG Bayreuth - ECPv6.15.3//NONSGML v1.0//EN
CALSCALE:GREGORIAN
METHOD:PUBLISH
X-ORIGINAL-URL:https://www.khg-in-bayreuth.de
X-WR-CALDESC:Veranstaltungen für KHG Bayreuth
REFRESH-INTERVAL;VALUE=DURATION:PT1H
X-Robots-Tag:noindex
X-PUBLISHED-TTL:PT1H
BEGIN:VTIMEZONE
TZID:Europe/Berlin
BEGIN:DAYLIGHT
TZOFFSETFROM:+0100
TZOFFSETTO:+0200
TZNAME:CEST
DTSTART:20220327T010000
END:DAYLIGHT
BEGIN:STANDARD
TZOFFSETFROM:+0200
TZOFFSETTO:+0100
TZNAME:CET
DTSTART:20221030T010000
END:STANDARD
END:VTIMEZONE
BEGIN:VEVENT
DTSTART;TZID=Europe/Berlin:20220210T133000
DTEND;TZID=Europe/Berlin:20220210T150000
DTSTAMP:20260424T032249
CREATED:20211022T082546Z
LAST-MODIFIED:20211025T175742Z
UID:10004649-1644499800-1644505200@www.khg-in-bayreuth.de
SUMMARY:International Bible group
DESCRIPTION:The Bible unites all Christians – so we’re going to share it ecumenically.  \nWe’re going to use the method of “bible sharing”: reading a short text and meditating on it. What has it to say for me\, for my life\, but also for us as a community? \nThe group will take place alternately at KHG and ESG. We’ll start at KHG the 28th of October 2021\, 13.30 hrs. The language will be English.
URL:https://www.khg-in-bayreuth.de/event/international-bible-group/2022-02-10/
LOCATION:KHG Bayreuth\, Emil-Warburg-Weg 17\, KHG Bayreuth\, 95447\, Deutschland
END:VEVENT
BEGIN:VEVENT
DTSTART;TZID=Europe/Berlin:20220210T133000
DTEND;TZID=Europe/Berlin:20220210T150000
DTSTAMP:20260424T032249
CREATED:20211022T082546Z
LAST-MODIFIED:20211223T194458Z
UID:10004655-1644499800-1644505200@www.khg-in-bayreuth.de
SUMMARY:International Bible group
DESCRIPTION:The Bible unites all Christians – so we’re going to share it ecumenically. \nWe’re going to use the method of “bible sharing”: reading a short text and meditating on it. What has it to say for me\, for my life\, but also for us as a community? \nThe group will take place alternately at KHG and ESG. Dates for the second part of winter semester: \nJanuary 13th at ESG \nJanuary 20th at KHG \nJanuary 27th at ESG \nFebruary 3rd at KHG \nFebruary 10th at ESG \n 
URL:https://www.khg-in-bayreuth.de/event/international-bible-group-2022-01-13/2022-02-10/
LOCATION:KHG Bayreuth\, Emil-Warburg-Weg 17\, KHG Bayreuth\, 95447\, Deutschland
END:VEVENT
BEGIN:VEVENT
DTSTART;TZID=Europe/Berlin:20220210T201500
DTEND;TZID=Europe/Berlin:20220210T230000
DTSTAMP:20260424T032249
CREATED:20210928T202126Z
LAST-MODIFIED:20210928T202126Z
UID:10004572-1644524100-1644534000@www.khg-in-bayreuth.de
SUMMARY:Swahili Chor Bayreuth // Suahili Choir Bayreuth
DESCRIPTION:Unser “Swahili Chor Bayreuth” probt wieder! Neue Sänger:innen sind jederzeit herzlich willkommen. \nOur “Suahili Choir Bayreuth” is rehearsing again. New singers are always welcome!
URL:https://www.khg-in-bayreuth.de/event/swahili-chor-bayreuth-suahili-choir-bayreuth/2022-02-10/
LOCATION:KHG Bayreuth\, Emil-Warburg-Weg 17\, KHG Bayreuth\, 95447\, Deutschland
END:VEVENT
END:VCALENDAR