BEGIN:VCALENDAR
VERSION:2.0
PRODID:-//KHG Bayreuth - ECPv6.15.3//NONSGML v1.0//EN
CALSCALE:GREGORIAN
METHOD:PUBLISH
X-WR-CALNAME:KHG Bayreuth
X-ORIGINAL-URL:https://www.khg-in-bayreuth.de
X-WR-CALDESC:Veranstaltungen für KHG Bayreuth
REFRESH-INTERVAL;VALUE=DURATION:PT1H
X-Robots-Tag:noindex
X-PUBLISHED-TTL:PT1H
BEGIN:VTIMEZONE
TZID:Europe/Berlin
BEGIN:DAYLIGHT
TZOFFSETFROM:+0100
TZOFFSETTO:+0200
TZNAME:CEST
DTSTART:20220327T010000
END:DAYLIGHT
BEGIN:STANDARD
TZOFFSETFROM:+0200
TZOFFSETTO:+0100
TZNAME:CET
DTSTART:20221030T010000
END:STANDARD
END:VTIMEZONE
BEGIN:VEVENT
DTSTART;TZID=Europe/Berlin:20220212T084500
DTEND;TZID=Europe/Berlin:20220212T180000
DTSTAMP:20260424T032134
CREATED:20211223T210428Z
LAST-MODIFIED:20220208T153337Z
UID:10004684-1644655500-1644688800@www.khg-in-bayreuth.de
SUMMARY:(R)Auszeit-Tag im Fichtelgebirge // Getaway day at the Fichtel Mountains
DESCRIPTION:Am Samstag gönnen wir uns zum Semesterende noch einen RAuszeit-Tag. Wir fahren zu einer Schneewanderung ins Fichtelgebirge und besteigen den Ochsenkopf! \nWir treffen uns um 8.50 Uhr am Hauptbahnhof. Zurück sind wir voraussichtlich um 17.50 Uhr. Die Tour findet Ihr hier (Variante 2): https://www.vgn.de/wandern/Ochsenkopf_rauf \nWichtig: Bitte zieht Euch schneetauglich an und achtet insbesondere auf trittfeste und möglichst wasserdichte Wanderschuhe (eventuell mit Schneeketten\, falls vorhanden)! \nAuf dem Gipfel werden wir in der Bergstation einkehren\, bitte nehmt etwas Geld für Essen und (Heiß-)Getränke mit. Auch eine Thermoskanne mit Tee für unterwegs wäre gut. Für die Zug-/Busfahrt denkt bitte an Euer Semesterticket\, FFP2-Maske und einen 3G-Nachweis! \nIm Moment sieht es laut Wettervorhersage so aus\, als ob wir am Samstag im Fichtelgebirge Schnee und Sonne hätten. Falls sich das noch ändert (also entweder kein Schnee mehr oder Regen/Matsch/Schneetreiben/Nebel/Sturm …)\, treffen wir uns trotzdem am Bahnhof und fahren stattdessen nach Nürnberg (Eisenbahnmuseum und Innenstadt/Kaiserburg). In diesem Fall erheben wir 5\,- € Unkostenbeitrag für das Zugticket. \nBitte meldet Euch bis Donnerstag per Mail an: khg@uni-bayreuth.de  \n  \n\nOn Saturday\, we treat ourselves to another time-out day at the end of the semester. We are going on a snow hike in the Fichtel Mountains and climbing the Ochsenkopf! \nWe will meet at Bayreuth main station at 8.50 am. We expect to be back at 5.50 pm. You can find the tour here (option 2): https://www.vgn.de/wandern/Ochsenkopf_rauf \nImportant: Please dress appropriately for the snow and make sure you wear hiking boots that are waterproof and have good grip (possibly with snow chains\, if available)! \nOn the summit we will stop at the mountain station\, please take some money for food and (hot) drinks. A thermos flask with tea for the road would also be good. For the train/bus journey\, please remember your semester ticket\, FFP2 mask and 3G proof! \nAt the moment\, according to the weather forecast\, it looks like we will have snow and sun in the Fichtelgebirge on Saturday. If that still changes (so either no more snow or rain/slush/blizzard/fog/storm …)\, we will still meet at the train station and go to Nuremberg (railway museum and city centre/Kaiserburg) instead. In this case we will charge 5\,- € for the train ticket. \nPlease register by email by Thursday: khg@uni-bayreuth.de \n  \n 
URL:https://www.khg-in-bayreuth.de/event/rauszeit-tag-getaway-day/
LOCATION:KHG Bayreuth\, Emil-Warburg-Weg 17\, KHG Bayreuth\, 95447\, Deutschland
END:VEVENT
BEGIN:VEVENT
DTSTART;TZID=Europe/Berlin:20220212T200000
DTEND;TZID=Europe/Berlin:20220212T220000
DTSTAMP:20260424T032134
CREATED:20220121T195824Z
LAST-MODIFIED:20220208T145924Z
UID:10004686-1644696000-1644703200@www.khg-in-bayreuth.de
SUMMARY:Theateraufführung "Zeit der Schuldlosen"
DESCRIPTION:Diesmal ausnahmsweise nicht in der KHG\, sondern im Brandenburger Kulturstadl: Unsere Theatergruppe “Die Schwarzen Schafe” spielt wieder! Gegeben wird “Zeit der Schuldlosen” von Siegfried Lenz. Die Plätze sind Corona-bedingt auch hier sehr begrenzt\, unbedingt schnell reservieren unter: http://www.schwarze-schafe.tk ! \n\nThis time\, for once\, not in the KHG\, but in the Brandenburger Kulturstadl: Our theatre group “Die Schwarzen Schafe” is playing again! The play is “Time of the Guiltless” by Siegfried Lenz. Due to Corona\, the number of seats is also very limited\, so be sure to book quickly at: http://www.schwarze-schafe.tk !
URL:https://www.khg-in-bayreuth.de/event/theaterauffuehrung-zeit-der-schuldlosen/2022-02-12/
LOCATION:KHG Bayreuth\, Emil-Warburg-Weg 17\, KHG Bayreuth\, 95447\, Deutschland
END:VEVENT
END:VCALENDAR