BEGIN:VCALENDAR
VERSION:2.0
PRODID:-//KHG Bayreuth - ECPv6.15.3//NONSGML v1.0//EN
CALSCALE:GREGORIAN
METHOD:PUBLISH
X-ORIGINAL-URL:https://www.khg-in-bayreuth.de
X-WR-CALDESC:Veranstaltungen für KHG Bayreuth
REFRESH-INTERVAL;VALUE=DURATION:PT1H
X-Robots-Tag:noindex
X-PUBLISHED-TTL:PT1H
BEGIN:VTIMEZONE
TZID:UTC
BEGIN:STANDARD
TZOFFSETFROM:+0000
TZOFFSETTO:+0000
TZNAME:UTC
DTSTART:20220101T000000
END:STANDARD
END:VTIMEZONE
BEGIN:VTIMEZONE
TZID:Europe/Berlin
BEGIN:DAYLIGHT
TZOFFSETFROM:+0100
TZOFFSETTO:+0200
TZNAME:CEST
DTSTART:20220327T010000
END:DAYLIGHT
BEGIN:STANDARD
TZOFFSETFROM:+0200
TZOFFSETTO:+0100
TZNAME:CET
DTSTART:20221030T010000
END:STANDARD
END:VTIMEZONE
BEGIN:VEVENT
DTSTART;TZID=UTC:20220214T170000
DTEND;TZID=UTC:20220214T190000
DTSTAMP:20260424T032246
CREATED:20190228T173552Z
LAST-MODIFIED:20190228T173552Z
UID:10003915-1644858000-1644865200@www.khg-in-bayreuth.de
SUMMARY:Bibelteilen // sharing the bible
DESCRIPTION:– English version below – \nNach der Methode des “Bibelteilens in sieben Schritten” bringen wir biblische Texte zusammen mit eigenen Lebenserfahrungen\, Fragen und Zweifeln. So begeben wir uns gemeinsam auf die Suche: Was ist jetzt “dran” für mich/ für uns? Wie kann ich das\, was ich denke\, fühle und erlebe\, anhand der biblischen Überlieferung deuten? Was ist jetzt zu tun?\nHerzliche Einladung an alle Gläubigen\, Agnostiker\, Atheisten\, Sinnsucher/-innen und Leute\, die etwas bewegen wollen! \nJeden Montag um 17.00 Uhr in der KHG (Frühstücksecke im Untergeschoss – ganz hinten). \n– English version – \nFollowing the “sharing the bible in seven steps” method\, we combine biblical texts with personal experiences\, doubts and questions. Thus we engage on a shared quest: What is “due” for me/ for us now? How can I interpret my own reality in the light of the gospel? \nEveryone’s invited to share\, regardless of culture or religon. \nEvery Monday at 5 pm in the KHG (breakfast table in the basement – at the rear).
URL:https://www.khg-in-bayreuth.de/event/bibelteilen-sharing-the-bible-22/2022-02-14/
END:VEVENT
BEGIN:VEVENT
DTSTART;TZID=Europe/Berlin:20220214T200000
DTEND;TZID=Europe/Berlin:20220214T220000
DTSTAMP:20260424T032246
CREATED:20220121T195824Z
LAST-MODIFIED:20220208T145924Z
UID:10004687-1644868800-1644876000@www.khg-in-bayreuth.de
SUMMARY:Theateraufführung "Zeit der Schuldlosen"
DESCRIPTION:Diesmal ausnahmsweise nicht in der KHG\, sondern im Brandenburger Kulturstadl: Unsere Theatergruppe “Die Schwarzen Schafe” spielt wieder! Gegeben wird “Zeit der Schuldlosen” von Siegfried Lenz. Die Plätze sind Corona-bedingt auch hier sehr begrenzt\, unbedingt schnell reservieren unter: http://www.schwarze-schafe.tk ! \n\nThis time\, for once\, not in the KHG\, but in the Brandenburger Kulturstadl: Our theatre group “Die Schwarzen Schafe” is playing again! The play is “Time of the Guiltless” by Siegfried Lenz. Due to Corona\, the number of seats is also very limited\, so be sure to book quickly at: http://www.schwarze-schafe.tk !
URL:https://www.khg-in-bayreuth.de/event/theaterauffuehrung-zeit-der-schuldlosen/2022-02-14/
LOCATION:KHG Bayreuth\, Emil-Warburg-Weg 17\, KHG Bayreuth\, 95447\, Deutschland
END:VEVENT
END:VCALENDAR