BEGIN:VCALENDAR
VERSION:2.0
PRODID:-//KHG Bayreuth - ECPv6.15.3//NONSGML v1.0//EN
CALSCALE:GREGORIAN
METHOD:PUBLISH
X-ORIGINAL-URL:https://www.khg-in-bayreuth.de
X-WR-CALDESC:Veranstaltungen für KHG Bayreuth
REFRESH-INTERVAL;VALUE=DURATION:PT1H
X-Robots-Tag:noindex
X-PUBLISHED-TTL:PT1H
BEGIN:VTIMEZONE
TZID:Europe/Berlin
BEGIN:DAYLIGHT
TZOFFSETFROM:+0100
TZOFFSETTO:+0200
TZNAME:CEST
DTSTART:20220327T010000
END:DAYLIGHT
BEGIN:STANDARD
TZOFFSETFROM:+0200
TZOFFSETTO:+0100
TZNAME:CET
DTSTART:20221030T010000
END:STANDARD
END:VTIMEZONE
BEGIN:VEVENT
DTSTART;TZID=Europe/Berlin:20220216T200000
DTEND;TZID=Europe/Berlin:20220216T220000
DTSTAMP:20260424T032244
CREATED:20220121T195824Z
LAST-MODIFIED:20220208T145924Z
UID:10004688-1645041600-1645048800@www.khg-in-bayreuth.de
SUMMARY:Theateraufführung "Zeit der Schuldlosen"
DESCRIPTION:Diesmal ausnahmsweise nicht in der KHG\, sondern im Brandenburger Kulturstadl: Unsere Theatergruppe “Die Schwarzen Schafe” spielt wieder! Gegeben wird “Zeit der Schuldlosen” von Siegfried Lenz. Die Plätze sind Corona-bedingt auch hier sehr begrenzt\, unbedingt schnell reservieren unter: http://www.schwarze-schafe.tk ! \n\nThis time\, for once\, not in the KHG\, but in the Brandenburger Kulturstadl: Our theatre group “Die Schwarzen Schafe” is playing again! The play is “Time of the Guiltless” by Siegfried Lenz. Due to Corona\, the number of seats is also very limited\, so be sure to book quickly at: http://www.schwarze-schafe.tk !
URL:https://www.khg-in-bayreuth.de/event/theaterauffuehrung-zeit-der-schuldlosen/2022-02-16/
LOCATION:KHG Bayreuth\, Emil-Warburg-Weg 17\, KHG Bayreuth\, 95447\, Deutschland
END:VEVENT
END:VCALENDAR