BEGIN:VCALENDAR
VERSION:2.0
PRODID:-//KHG Bayreuth - ECPv6.15.3//NONSGML v1.0//EN
CALSCALE:GREGORIAN
METHOD:PUBLISH
X-WR-CALNAME:KHG Bayreuth
X-ORIGINAL-URL:https://www.khg-in-bayreuth.de
X-WR-CALDESC:Veranstaltungen für KHG Bayreuth
REFRESH-INTERVAL;VALUE=DURATION:PT1H
X-Robots-Tag:noindex
X-PUBLISHED-TTL:PT1H
BEGIN:VTIMEZONE
TZID:Europe/Berlin
BEGIN:DAYLIGHT
TZOFFSETFROM:+0100
TZOFFSETTO:+0200
TZNAME:CEST
DTSTART:20220327T010000
END:DAYLIGHT
BEGIN:STANDARD
TZOFFSETFROM:+0200
TZOFFSETTO:+0100
TZNAME:CET
DTSTART:20221030T010000
END:STANDARD
END:VTIMEZONE
BEGIN:VEVENT
DTSTART;TZID=Europe/Berlin:20220301T190000
DTEND;TZID=Europe/Berlin:20220301T220000
DTSTAMP:20260424T014218
CREATED:20220227T143141Z
LAST-MODIFIED:20220227T143339Z
UID:10004699-1646161200-1646172000@www.khg-in-bayreuth.de
SUMMARY:Spontan-Spieleabend// Spontaneous games evening
DESCRIPTION:Am Faschingsdienstag treffen wir uns zu einem spontanen Spieleabend in der KHG. Falls genügend Leute zusammenkommen\, spielen wir Werwolf\, ansonsten Brett- oder Gesellschaftsspiele. Einige Spiele sind in der KHG vorhanden\, Ihr dürft auch gerne selbst Spiele mitbringen\, die Ihr gerne spielen möchtet. Wenn Ihr mögt\, bringt auch gerne Snacks mit. \nOn Shrove Tuesday\, we meet for a spontaneous games evening at the KHG. If we are enough people\, we play werewolves\, otherwise board or parlour games. Some board games are available at KHG\, but you’re welcome to bring your own games if you feel like playing them. You can also bring snacks\, if you like.
URL:https://www.khg-in-bayreuth.de/event/spontan-spieleabend-spontaneous-games-evening/
LOCATION:KHG Bayreuth\, Emil-Warburg-Weg 17\, KHG Bayreuth\, 95447\, Deutschland
END:VEVENT
END:VCALENDAR