BEGIN:VCALENDAR
VERSION:2.0
PRODID:-//KHG Bayreuth - ECPv6.15.3//NONSGML v1.0//EN
CALSCALE:GREGORIAN
METHOD:PUBLISH
X-ORIGINAL-URL:https://www.khg-in-bayreuth.de
X-WR-CALDESC:Veranstaltungen für KHG Bayreuth
REFRESH-INTERVAL;VALUE=DURATION:PT1H
X-Robots-Tag:noindex
X-PUBLISHED-TTL:PT1H
BEGIN:VTIMEZONE
TZID:Europe/Berlin
BEGIN:DAYLIGHT
TZOFFSETFROM:+0100
TZOFFSETTO:+0200
TZNAME:CEST
DTSTART:20220327T010000
END:DAYLIGHT
BEGIN:STANDARD
TZOFFSETFROM:+0200
TZOFFSETTO:+0100
TZNAME:CET
DTSTART:20221030T010000
END:STANDARD
END:VTIMEZONE
BEGIN:VEVENT
DTSTART;TZID=Europe/Berlin:20220501T190000
DTEND;TZID=Europe/Berlin:20220501T200000
DTSTAMP:20260423T224108
CREATED:20220318T073208Z
LAST-MODIFIED:20220422T070846Z
UID:10004710-1651431600-1651435200@www.khg-in-bayreuth.de
SUMMARY:Eucharistiefeier am Feuer // Eucharist by the fire
DESCRIPTION:Wir feiern Gottesdienst vor der KHG am Feuer. Anschließend bleiben wir noch zusammen am Lagerfeuer und backen Stockbrot. \n\nWe celebrate a church service in front of the KHG by the fire. Afterwards we stay together at the campfire and bake stick bread.
URL:https://www.khg-in-bayreuth.de/event/eucharistiefeier-am-feuer-eucharistic-celebration-by-the-fire/
LOCATION:KHG Bayreuth\, Emil-Warburg-Weg 17\, KHG Bayreuth\, 95447\, Deutschland
END:VEVENT
END:VCALENDAR