BEGIN:VCALENDAR
VERSION:2.0
PRODID:-//KHG Bayreuth - ECPv6.15.3//NONSGML v1.0//EN
CALSCALE:GREGORIAN
METHOD:PUBLISH
X-ORIGINAL-URL:https://www.khg-in-bayreuth.de
X-WR-CALDESC:Veranstaltungen für KHG Bayreuth
REFRESH-INTERVAL;VALUE=DURATION:PT1H
X-Robots-Tag:noindex
X-PUBLISHED-TTL:PT1H
BEGIN:VTIMEZONE
TZID:Europe/Berlin
BEGIN:DAYLIGHT
TZOFFSETFROM:+0100
TZOFFSETTO:+0200
TZNAME:CEST
DTSTART:20220327T010000
END:DAYLIGHT
BEGIN:STANDARD
TZOFFSETFROM:+0200
TZOFFSETTO:+0100
TZNAME:CET
DTSTART:20221030T010000
END:STANDARD
END:VTIMEZONE
BEGIN:VEVENT
DTSTART;TZID=Europe/Berlin:20220507T153000
DTEND;TZID=Europe/Berlin:20220507T220000
DTSTAMP:20260423T223525
CREATED:20220325T104959Z
LAST-MODIFIED:20220422T071735Z
UID:10004720-1651937400-1651960800@www.khg-in-bayreuth.de
SUMMARY:Ehemaligentreffen der KHG und ESG // Meeting for former and current KHG and ESG
DESCRIPTION:Beginn mit Kaffee und Kuchen in der ESG\, Wanderung zur KHG mit Campusrundgang\, abends Grillen an der KHG\, evtl. Kneipentour. \n\nStart with coffee and cake in the ESG\, walk to the KHG with campus tour\, barbecue in the evening at the KHG\, possible pub crawl.
URL:https://www.khg-in-bayreuth.de/event/ehemaligentreffen-der-khg-und-esg-alumni-meeting-of-khg-and-esg/
LOCATION:KHG Bayreuth\, Emil-Warburg-Weg 17\, KHG Bayreuth\, 95447\, Deutschland
END:VEVENT
END:VCALENDAR