BEGIN:VCALENDAR
VERSION:2.0
PRODID:-//KHG Bayreuth - ECPv6.15.3//NONSGML v1.0//EN
CALSCALE:GREGORIAN
METHOD:PUBLISH
X-WR-CALNAME:KHG Bayreuth
X-ORIGINAL-URL:https://www.khg-in-bayreuth.de
X-WR-CALDESC:Veranstaltungen für KHG Bayreuth
REFRESH-INTERVAL;VALUE=DURATION:PT1H
X-Robots-Tag:noindex
X-PUBLISHED-TTL:PT1H
BEGIN:VTIMEZONE
TZID:Europe/Berlin
BEGIN:DAYLIGHT
TZOFFSETFROM:+0100
TZOFFSETTO:+0200
TZNAME:CEST
DTSTART:20220327T010000
END:DAYLIGHT
BEGIN:STANDARD
TZOFFSETFROM:+0200
TZOFFSETTO:+0100
TZNAME:CET
DTSTART:20221030T010000
END:STANDARD
END:VTIMEZONE
BEGIN:VEVENT
DTSTART;TZID=Europe/Berlin:20220508T100000
DTEND;TZID=Europe/Berlin:20220508T160000
DTSTAMP:20260423T223239
CREATED:20220325T105137Z
LAST-MODIFIED:20220506T141858Z
UID:10004721-1652004000-1652025600@www.khg-in-bayreuth.de
SUMMARY:Ökumenische Wanderung // Ecumenical hike
DESCRIPTION:Am Sonntag\, 8. Mai\, findet unsere KHG-&ESG-Wanderung statt. Wir treffen uns um 10.00 Uhr vor dem Haupteingang des Hauptbahnhofs Bayreuth. Von dort geht es bei hoffentlich schönstem Wetter hoch in Richtung Festspielhaus und Biergarten auf der Theta. Die Wanderung dauert insgesamt etwa bis 16.00 Uhr. Achtet bitte auf festes Schuhwerk (Wanderschuhe/ Sportschuhe)\, Trinkflasche und ggf. eine Kleinigkeit zu Essen für unterwegs\, falls Ihr Euch im Biergarten nichts kaufen wollt. Wir machen unterwegs dann nochmal Pause\, damit ihr auch in Ruhe essen könnt. Im Biergarten ist ausschließlich Barzahlung möglich. \n\nOn Sunday the 8th of May our KHG/ESG hike will take place. We will meet at 10 am in front of the main entrance of the Hauptbahnhof (Bayreuth main station). From there we’ll walk up towards the Festspielhaus and the beer garden on the Theta in hopefully nice weather. The hike will last until about 16.00 hrs. Please make sure to wear sturdy shoes (hiking boots/ sports shoes) and bring a water bottle and a snack for the trip if you don’t want to buy anything in the beer garden. We will take a break on the way so that you can eat in tranquility. In the beer garden\, only cash payment is possible.
URL:https://www.khg-in-bayreuth.de/event/oekumenische-wanderung-ecumenical-hike-3/
LOCATION:KHG Bayreuth\, Emil-Warburg-Weg 17\, KHG Bayreuth\, 95447\, Deutschland
END:VEVENT
END:VCALENDAR