BEGIN:VCALENDAR
VERSION:2.0
PRODID:-//KHG Bayreuth - ECPv6.15.3//NONSGML v1.0//EN
CALSCALE:GREGORIAN
METHOD:PUBLISH
X-ORIGINAL-URL:https://www.khg-in-bayreuth.de
X-WR-CALDESC:Veranstaltungen für KHG Bayreuth
REFRESH-INTERVAL;VALUE=DURATION:PT1H
X-Robots-Tag:noindex
X-PUBLISHED-TTL:PT1H
BEGIN:VTIMEZONE
TZID:Europe/Berlin
BEGIN:DAYLIGHT
TZOFFSETFROM:+0100
TZOFFSETTO:+0200
TZNAME:CEST
DTSTART:20220327T010000
END:DAYLIGHT
BEGIN:STANDARD
TZOFFSETFROM:+0200
TZOFFSETTO:+0100
TZNAME:CET
DTSTART:20221030T010000
END:STANDARD
END:VTIMEZONE
BEGIN:VEVENT
DTSTART;TZID=Europe/Berlin:20220514T130000
DTEND;TZID=Europe/Berlin:20220514T170000
DTSTAMP:20260423T223606
CREATED:20220325T104742Z
LAST-MODIFIED:20220507T105038Z
UID:10004719-1652533200-1652547600@www.khg-in-bayreuth.de
SUMMARY:Wanderung der Religionen // Interreligious walk through Bayreuth
DESCRIPTION:Christen und Muslime – Geschwister im Glauben\, die oft viel zu wenig voneinander wissen. Gemeinsam machen wir uns auf den Weg\, um miteinander ins Gespräch zu kommen. Wir wandern durch Bayreuth und besuchen eine Moschee sowie eine katholische und evangelische Kirche. \n13 Uhr: Treffpunkt St. Hedwig Schwindstraße\nSchluss ca. 16:30 Uhr/17 Uhr \nAnmeldung bis Donnerstag\, 12. Mai \nKoop: ESG und Muslimische Hochschulgruppe. \n\nChristians and Muslims – brothers and sisters in faith who often know far too little about each other. Together\, we set out to talk to each other. We will walk through Bayreuth and visit a mosque as well as a Catholic and Protestant church. \n13:00: Meeting point St. Hedwig Schwindstraße\nEnd approx. 16:30 h / 17 h \nRegistration until Thursday\, May 12 \nCoop: ESG and Muslim University Group.
URL:https://www.khg-in-bayreuth.de/event/wanderung-der-religionen-migration-of-the-religions/
LOCATION:KHG Bayreuth\, Emil-Warburg-Weg 17\, KHG Bayreuth\, 95447\, Deutschland
END:VEVENT
END:VCALENDAR