BEGIN:VCALENDAR
VERSION:2.0
PRODID:-//KHG Bayreuth - ECPv6.15.3//NONSGML v1.0//EN
CALSCALE:GREGORIAN
METHOD:PUBLISH
X-ORIGINAL-URL:https://www.khg-in-bayreuth.de
X-WR-CALDESC:Veranstaltungen für KHG Bayreuth
REFRESH-INTERVAL;VALUE=DURATION:PT1H
X-Robots-Tag:noindex
X-PUBLISHED-TTL:PT1H
BEGIN:VTIMEZONE
TZID:Europe/Berlin
BEGIN:DAYLIGHT
TZOFFSETFROM:+0100
TZOFFSETTO:+0200
TZNAME:CEST
DTSTART:20220327T010000
END:DAYLIGHT
BEGIN:STANDARD
TZOFFSETFROM:+0200
TZOFFSETTO:+0100
TZNAME:CET
DTSTART:20221030T010000
END:STANDARD
END:VTIMEZONE
BEGIN:VEVENT
DTSTART;TZID=Europe/Berlin:20220515T190000
DTEND;TZID=Europe/Berlin:20220515T200000
DTSTAMP:20260423T223659
CREATED:20220318T073340Z
LAST-MODIFIED:20220507T105654Z
UID:10004711-1652641200-1652644800@www.khg-in-bayreuth.de
SUMMARY:Eucharistiefeier in der Albertus-Magnus Kapelle // Holy Mass in the Albertus Magnus Chapel
DESCRIPTION:Wir feiern Gottesdienst zum Thema “Liebe\, und tue\, was Du willst” (Augustinus). Herzlich willkommen! \nWe celebrate the Holy Mass on the topic of “Love\, and do what you want” (Augustinus). Welcome!
URL:https://www.khg-in-bayreuth.de/event/eucharistiefeier-in-der-albertus-magnus-kapelle-eucharistic-celebration-in-the-albertus-magnus-chapel/
LOCATION:KHG Bayreuth\, Emil-Warburg-Weg 17\, KHG Bayreuth\, 95447\, Deutschland
END:VEVENT
END:VCALENDAR