BEGIN:VCALENDAR
VERSION:2.0
PRODID:-//KHG Bayreuth - ECPv6.15.3//NONSGML v1.0//EN
CALSCALE:GREGORIAN
METHOD:PUBLISH
X-ORIGINAL-URL:https://www.khg-in-bayreuth.de
X-WR-CALDESC:Veranstaltungen für KHG Bayreuth
REFRESH-INTERVAL;VALUE=DURATION:PT1H
X-Robots-Tag:noindex
X-PUBLISHED-TTL:PT1H
BEGIN:VTIMEZONE
TZID:Europe/Berlin
BEGIN:DAYLIGHT
TZOFFSETFROM:+0100
TZOFFSETTO:+0200
TZNAME:CEST
DTSTART:20220327T010000
END:DAYLIGHT
BEGIN:STANDARD
TZOFFSETFROM:+0200
TZOFFSETTO:+0100
TZNAME:CET
DTSTART:20221030T010000
END:STANDARD
END:VTIMEZONE
BEGIN:VEVENT
DTSTART;TZID=Europe/Berlin:20220517T201500
DTEND;TZID=Europe/Berlin:20220517T220000
DTSTAMP:20260423T223519
CREATED:20220325T102729Z
LAST-MODIFIED:20220507T105918Z
UID:10004715-1652818500-1652824800@www.khg-in-bayreuth.de
SUMMARY:Christliche Mystik // Christian mysticism
DESCRIPTION:Seit es Menschen gibt\, sind sie auf der Suche nach dem innersten Geheimnis der Welt\, das wir in den westlichen Religionen Gott nennen. Die spirituelle Suche nach der Begegnung mit dem Göttlichen bezeichnen wir als „Mystik“. Sie kann vielfältige Formen annehmen: Meditation\, Gebet\, Stille\, Naturerlebnisse\, persönliche Begegnungen\, aber auch Kunst\, Musik\, Tanz und Bewegung können Wege zu mystischen Erfahrungen sein. \nIn der christlichen Tradition wurde die Mystik besonders in der klösterlichen Theologie des Mittelalters gepflegt. Hildegard von Bingen\, Teresa von Avila oder Meister Eckhart sind berühmte Lehrer*innen einer mystischen Kontemplation. Aber auch in der Moderne gibt es vielfältige Formen und spannende Persönlichkeiten der Mystik. \nMit Hilfe von theologischen Texten und praktischen Übungen tauchen wir in die Welt der christlichen Mystik ein und kommen ins Gespräch. \n\nFor as long as there have been human beings\, they have been searching for the innermost mystery of the world\, which in Western religions we call God. We call the spiritual search for an encounter with the divine “mysticism”. It can take many forms: Meditation\, prayer\, silence\, experiences of nature\, personal encounters\, but also art\, music\, dance and movement can be paths to mystical experiences. \nIn the Christian tradition\, mysticism was cultivated especially in the monastic theology of the Middle Ages. Hildegard von Bingen\, Teresa von Avila and Meister Eckhart are famous teachers of mystical contemplation. But also in modern times there are many different forms and exciting personalities of mysticism. With the help of theological texts and practical exercises\, we will immerse ourselves in the topic and enter into conversation. \n 
URL:https://www.khg-in-bayreuth.de/event/christliche-mystik-christian-mysticism/
LOCATION:KHG Bayreuth\, Emil-Warburg-Weg 17\, KHG Bayreuth\, 95447\, Deutschland
END:VEVENT
END:VCALENDAR