BEGIN:VCALENDAR
VERSION:2.0
PRODID:-//KHG Bayreuth - ECPv6.15.3//NONSGML v1.0//EN
CALSCALE:GREGORIAN
METHOD:PUBLISH
X-ORIGINAL-URL:https://www.khg-in-bayreuth.de
X-WR-CALDESC:Veranstaltungen für KHG Bayreuth
REFRESH-INTERVAL;VALUE=DURATION:PT1H
X-Robots-Tag:noindex
X-PUBLISHED-TTL:PT1H
BEGIN:VTIMEZONE
TZID:Europe/Berlin
BEGIN:DAYLIGHT
TZOFFSETFROM:+0100
TZOFFSETTO:+0200
TZNAME:CEST
DTSTART:20220327T010000
END:DAYLIGHT
BEGIN:STANDARD
TZOFFSETFROM:+0200
TZOFFSETTO:+0100
TZNAME:CET
DTSTART:20221030T010000
END:STANDARD
END:VTIMEZONE
BEGIN:VEVENT
DTSTART;TZID=Europe/Berlin:20220519T133000
DTEND;TZID=Europe/Berlin:20220519T150000
DTSTAMP:20260423T223621
CREATED:20220413T093419Z
LAST-MODIFIED:20220422T063343Z
UID:10004755-1652967000-1652972400@www.khg-in-bayreuth.de
SUMMARY:International Bible group
DESCRIPTION:A short break in the week for spiritual empowerment. We’re going to use the method of “bible sharing”: reading a biblical text and meditating on it. What has it to say for me\, for my life\, but also for us as a community?
URL:https://www.khg-in-bayreuth.de/event/international-bible-group-2/2022-05-19/
LOCATION:KHG Bayreuth\, Emil-Warburg-Weg 17\, KHG Bayreuth\, 95447\, Deutschland
END:VEVENT
BEGIN:VEVENT
DTSTART;TZID=Europe/Berlin:20220519T162000
DTEND;TZID=Europe/Berlin:20220519T180000
DTSTAMP:20260423T223621
CREATED:20220422T063838Z
LAST-MODIFIED:20220422T063909Z
UID:10004821-1652977200-1652983200@www.khg-in-bayreuth.de
SUMMARY:KHG-Café //
DESCRIPTION:Offener Treff\, besonders auch für internationale Studierende. \n\nOpen meeting\, especially for international students.
URL:https://www.khg-in-bayreuth.de/event/khg-cafe/2022-05-19/
LOCATION:KHG Bayreuth\, Emil-Warburg-Weg 17\, KHG Bayreuth\, 95447\, Deutschland
END:VEVENT
BEGIN:VEVENT
DTSTART;TZID=Europe/Berlin:20220519T190000
DTEND;TZID=Europe/Berlin:20220519T220000
DTSTAMP:20260423T223621
CREATED:20220325T103006Z
LAST-MODIFIED:20220330T093648Z
UID:10004716-1652986800-1652997600@www.khg-in-bayreuth.de
SUMMARY:Pub Quiz 4.0 der deutschen Hochschulgemeinden // Pub Quiz 4.0 of the German university communities
DESCRIPTION:Zum vierten Mal treten wir im bundesweiten Online – Pub Quiz der deutschen Hochschulgemeinden an. Wir waren schon erster und zweiter Sieger – diesmal wollen wir es wieder wissen! \nWenn Ihr Spaß daran habt\, in lockerer Atmosphäre Quizfragen zu lösen und uns beim Gewinnen zu unterstützen\, meldet Euch gerne unter khg@uni-bayreuth.de an! \n\nFor the fourth time\, we are taking part in the nationwide online pub quiz of the German university communities. We were already first and second winners – this time we want to do it again! \nIf you enjoy solving quiz questions in a relaxed atmosphere and helping us win\, please register under khg@uni-bayreuth.de!
URL:https://www.khg-in-bayreuth.de/event/pub-quiz-4-0/
LOCATION:KHG Bayreuth\, Emil-Warburg-Weg 17\, KHG Bayreuth\, 95447\, Deutschland
END:VEVENT
BEGIN:VEVENT
DTSTART;TZID=Europe/Berlin:20220519T201500
DTEND;TZID=Europe/Berlin:20220519T230000
DTSTAMP:20260423T223621
CREATED:20220413T095018Z
LAST-MODIFIED:20220422T065018Z
UID:10004785-1652991300-1653001200@www.khg-in-bayreuth.de
SUMMARY:Swahili Chor Bayreuth // Suahili Choir
DESCRIPTION:Lust auf gemeinsames Singen und Bewegen? Unser „Swahili Chor Bayreuth“ singt und tanzt christliche und weltliche Lieder in Swahili\, aber auch in anderen afrikanischen Sprachen. Neueinsteiger*innen herzlich willkommen! \n\nWould you like to sing and move together? Our “Swahili Choir Bayreuth” sings and dances Christian and secular songs in Swahili\, but also in other African languages. Newcomers are welcome
URL:https://www.khg-in-bayreuth.de/event/swahili-chor-bayreuth-suahili-choir/2022-05-19/
LOCATION:KHG Bayreuth\, Emil-Warburg-Weg 17\, KHG Bayreuth\, 95447\, Deutschland
END:VEVENT
END:VCALENDAR