BEGIN:VCALENDAR
VERSION:2.0
PRODID:-//KHG Bayreuth - ECPv6.15.3//NONSGML v1.0//EN
CALSCALE:GREGORIAN
METHOD:PUBLISH
X-WR-CALNAME:KHG Bayreuth
X-ORIGINAL-URL:https://www.khg-in-bayreuth.de
X-WR-CALDESC:Veranstaltungen für KHG Bayreuth
REFRESH-INTERVAL;VALUE=DURATION:PT1H
X-Robots-Tag:noindex
X-PUBLISHED-TTL:PT1H
BEGIN:VTIMEZONE
TZID:Europe/Berlin
BEGIN:DAYLIGHT
TZOFFSETFROM:+0100
TZOFFSETTO:+0200
TZNAME:CEST
DTSTART:20220327T010000
END:DAYLIGHT
BEGIN:STANDARD
TZOFFSETFROM:+0200
TZOFFSETTO:+0100
TZNAME:CET
DTSTART:20221030T010000
END:STANDARD
END:VTIMEZONE
BEGIN:VEVENT
DTSTART;TZID=Europe/Berlin:20220520T183000
DTEND;TZID=Europe/Berlin:20220520T210000
DTSTAMP:20260423T223253
CREATED:20220420T113827Z
LAST-MODIFIED:20220422T064433Z
UID:10004810-1653071400-1653080400@www.khg-in-bayreuth.de
SUMMARY:Deutsch-chinesischer Stammtisch: "Liebe"// German-Chinese regulars' table: "Love"
DESCRIPTION:Die Zahl 520 bedeutet auf Chinesisch „Ich liebe dich“. Deswegen geht es an diesem Abend um das Thema Liebe: Was bedeutet „Liebe“ in verschiedenen Kulturen? Wie wird sie gelebt? \n\nThe number 520 means “I love you” in Chinese. That’s why this evening’s topic is love: What does “love” mean in different cultures? How is it lived?
URL:https://www.khg-in-bayreuth.de/event/deutsch-chinesischer-stammtisch-liebe-german-chinese-regulars-table-love/
LOCATION:KHG Bayreuth\, Emil-Warburg-Weg 17\, KHG Bayreuth\, 95447\, Deutschland
END:VEVENT
END:VCALENDAR