BEGIN:VCALENDAR
VERSION:2.0
PRODID:-//KHG Bayreuth - ECPv6.15.3//NONSGML v1.0//EN
CALSCALE:GREGORIAN
METHOD:PUBLISH
X-ORIGINAL-URL:https://www.khg-in-bayreuth.de
X-WR-CALDESC:Veranstaltungen für KHG Bayreuth
REFRESH-INTERVAL;VALUE=DURATION:PT1H
X-Robots-Tag:noindex
X-PUBLISHED-TTL:PT1H
BEGIN:VTIMEZONE
TZID:Europe/Berlin
BEGIN:DAYLIGHT
TZOFFSETFROM:+0100
TZOFFSETTO:+0200
TZNAME:CEST
DTSTART:20220327T010000
END:DAYLIGHT
BEGIN:STANDARD
TZOFFSETFROM:+0200
TZOFFSETTO:+0100
TZNAME:CET
DTSTART:20221030T010000
END:STANDARD
END:VTIMEZONE
BEGIN:VTIMEZONE
TZID:UTC
BEGIN:STANDARD
TZOFFSETFROM:+0000
TZOFFSETTO:+0000
TZNAME:UTC
DTSTART:20220101T000000
END:STANDARD
END:VTIMEZONE
BEGIN:VEVENT
DTSTART;TZID=Europe/Berlin:20220523T070000
DTEND;TZID=Europe/Berlin:20220523T090000
DTSTAMP:20260423T223618
CREATED:20220404T121730Z
LAST-MODIFIED:20220613T073934Z
UID:10004746-1653289200-1653296400@www.khg-in-bayreuth.de
SUMMARY:Frühschicht mit Frühstück // Morning prayer with breakfast
DESCRIPTION:Zweiwöchentlich am Montag treffen wir uns während der Vorlesungszeit um 07:00 Uhr zu einer kurzen Morgenandacht mit anschl. Frühstück in der KHG. An den dazwischenliegenden Montagen seid Ihr sehr herzlich zum “Bet- und Breakfast” in der ESG eingeladen! \n\nEvery second week on Monday during the lecture period we meet at 07:00 for a short morning devotion followed by breakfast in the KHG. On the Mondays in between\, you are very welcome to join the “Prayer and Breakfast” at the ESG!
URL:https://www.khg-in-bayreuth.de/event/fruehschicht-mit-fruehstueck-morning-prayer-with-breakfast/2022-05-23/
LOCATION:KHG Bayreuth\, Emil-Warburg-Weg 17\, KHG Bayreuth\, 95447\, Deutschland
END:VEVENT
BEGIN:VEVENT
DTSTART;TZID=UTC:20220523T170000
DTEND;TZID=UTC:20220523T190000
DTSTAMP:20260423T223618
CREATED:20190228T173552Z
LAST-MODIFIED:20190228T173552Z
UID:10003929-1653325200-1653332400@www.khg-in-bayreuth.de
SUMMARY:Bibelteilen // sharing the bible
DESCRIPTION:– English version below – \nNach der Methode des “Bibelteilens in sieben Schritten” bringen wir biblische Texte zusammen mit eigenen Lebenserfahrungen\, Fragen und Zweifeln. So begeben wir uns gemeinsam auf die Suche: Was ist jetzt “dran” für mich/ für uns? Wie kann ich das\, was ich denke\, fühle und erlebe\, anhand der biblischen Überlieferung deuten? Was ist jetzt zu tun?\nHerzliche Einladung an alle Gläubigen\, Agnostiker\, Atheisten\, Sinnsucher/-innen und Leute\, die etwas bewegen wollen! \nJeden Montag um 17.00 Uhr in der KHG (Frühstücksecke im Untergeschoss – ganz hinten). \n– English version – \nFollowing the “sharing the bible in seven steps” method\, we combine biblical texts with personal experiences\, doubts and questions. Thus we engage on a shared quest: What is “due” for me/ for us now? How can I interpret my own reality in the light of the gospel? \nEveryone’s invited to share\, regardless of culture or religon. \nEvery Monday at 5 pm in the KHG (breakfast table in the basement – at the rear).
URL:https://www.khg-in-bayreuth.de/event/bibelteilen-sharing-the-bible-22/2022-05-23/
END:VEVENT
BEGIN:VEVENT
DTSTART;TZID=Europe/Berlin:20220523T180000
DTEND;TZID=Europe/Berlin:20220523T210000
DTSTAMP:20260423T223618
CREATED:20220413T094456Z
LAST-MODIFIED:20220413T094521Z
UID:10004770-1653328800-1653339600@www.khg-in-bayreuth.de
SUMMARY:Theatergruppe "Die Schwarzen Schafe" // Theatre group
DESCRIPTION:Unsere Theatergruppe “Die schwarzen Schafe” trifft sich jeden Montag. Bis zum Ende des Semesters soll wieder ein Stück geprobt und inszeniert werden. Neueinsteiger:innen willkommen! \nOur theatre group “The Black Sheep” meets every Monday. We plan to rehearse and stage another play by the end of the semester. New members are welcome!
URL:https://www.khg-in-bayreuth.de/event/theatergruppe-die-schwarzen-schafe-theatre-group-3/2022-05-23/
LOCATION:KHG Bayreuth\, Emil-Warburg-Weg 17\, KHG Bayreuth\, 95447\, Deutschland
END:VEVENT
BEGIN:VEVENT
DTSTART;TZID=Europe/Berlin:20220523T193000
DTEND;TZID=Europe/Berlin:20220523T200000
DTSTAMP:20260423T223618
CREATED:20220422T062721Z
LAST-MODIFIED:20220422T062801Z
UID:10004816-1653334200-1653336000@www.khg-in-bayreuth.de
SUMMARY:Ökumenisches Friedensgebet für die Ukraine // Ecumenical Prayer for Peace for Ukraine
DESCRIPTION:Wir treffen uns bis auf weiteres jeden Montag zu einem einfachen Friedensgebet mit Taizé-Gesängen auf der KHG-Wiese\, um für Frieden in der Ukraine und auf der Welt zu beten. \nUntil further notice we will meet every Monday for a simple prayer for peace with Taizé songs on the KHG meadow to pray for peace in Ukraine and the world.
URL:https://www.khg-in-bayreuth.de/event/oekumenisches-friedensgebet-fuer-die-ukraine-ecumenical-prayer-for-peace-for-ukraine/2022-05-23/
LOCATION:KHG Bayreuth\, Emil-Warburg-Weg 17\, KHG Bayreuth\, 95447\, Deutschland
END:VEVENT
END:VCALENDAR