BEGIN:VCALENDAR
VERSION:2.0
PRODID:-//KHG Bayreuth - ECPv6.15.3//NONSGML v1.0//EN
CALSCALE:GREGORIAN
METHOD:PUBLISH
X-WR-CALNAME:KHG Bayreuth
X-ORIGINAL-URL:https://www.khg-in-bayreuth.de
X-WR-CALDESC:Veranstaltungen für KHG Bayreuth
REFRESH-INTERVAL;VALUE=DURATION:PT1H
X-Robots-Tag:noindex
X-PUBLISHED-TTL:PT1H
BEGIN:VTIMEZONE
TZID:Europe/Berlin
BEGIN:DAYLIGHT
TZOFFSETFROM:+0100
TZOFFSETTO:+0200
TZNAME:CEST
DTSTART:20220327T010000
END:DAYLIGHT
BEGIN:STANDARD
TZOFFSETFROM:+0200
TZOFFSETTO:+0100
TZNAME:CET
DTSTART:20221030T010000
END:STANDARD
END:VTIMEZONE
BEGIN:VEVENT
DTSTART;TZID=Europe/Berlin:20220524T190000
DTEND;TZID=Europe/Berlin:20220524T220000
DTSTAMP:20260423T223341
CREATED:20220325T103649Z
LAST-MODIFIED:20220516T114039Z
UID:10004717-1653418800-1653429600@www.khg-in-bayreuth.de
SUMMARY:Krimidinner //  Mystery dinner
DESCRIPTION:Ein leckeres Abendessen und ein spannender Kriminallfall – wer beides mag\, ist bei unserem Krimidinner genau richtig! \nWährend ein mehrgängiges Menü in elegantem Ambiente serviert wird\, schlüpfen alle Teilnehmenden in eine Rolle aus einer Kriminalgeschichte. Nun gilt es herauszufinden\, wer von den Anwesenden ein Mörder oder eine Mörderin ist! \nTeilnahmebeitrag: 3\,- €\, Anmeldung per Mail bis 20.05. an khg@uni-bayreuth.de ! \n\nA delicious dinner and a thrilling criminal case – if you like both\, our mystery dinner is just right for you! \nWhile a multi-course menu is served in an elegant ambience\, all participants slip into a role from a crime story. Now the task is to find out which of the participants is a murderer or a murderess! \nParticipation fee: 3\,- €\, registration by mail until 20.05. to khg@uni-bayreuth.de !
URL:https://www.khg-in-bayreuth.de/event/krimi-dinner/
LOCATION:KHG Bayreuth\, Emil-Warburg-Weg 17\, KHG Bayreuth\, 95447\, Deutschland
END:VEVENT
END:VCALENDAR