BEGIN:VCALENDAR
VERSION:2.0
PRODID:-//KHG Bayreuth - ECPv6.15.3//NONSGML v1.0//EN
CALSCALE:GREGORIAN
METHOD:PUBLISH
X-ORIGINAL-URL:https://www.khg-in-bayreuth.de
X-WR-CALDESC:Veranstaltungen für KHG Bayreuth
REFRESH-INTERVAL;VALUE=DURATION:PT1H
X-Robots-Tag:noindex
X-PUBLISHED-TTL:PT1H
BEGIN:VTIMEZONE
TZID:Europe/Berlin
BEGIN:DAYLIGHT
TZOFFSETFROM:+0100
TZOFFSETTO:+0200
TZNAME:CEST
DTSTART:20220327T010000
END:DAYLIGHT
BEGIN:STANDARD
TZOFFSETFROM:+0200
TZOFFSETTO:+0100
TZNAME:CET
DTSTART:20221030T010000
END:STANDARD
END:VTIMEZONE
BEGIN:VEVENT
DTSTART;TZID=Europe/Berlin:20220525T000000
DTEND;TZID=Europe/Berlin:20220529T000000
DTSTAMP:20260423T223710
CREATED:20220406T081534Z
LAST-MODIFIED:20220519T234935Z
UID:10004749-1653436800-1653782400@www.khg-in-bayreuth.de
SUMMARY:Fahrt zum Katholikentag in Stuttgart // Trip to the Katholikentag in Stuttgart
DESCRIPTION:Wir fahren gemeinsam mit der KHG Regensburg zum Katholikentag. Dort wird viel geboten – Diskussionen\, Workshops\, Kirchenmeile\, Gottesdienste\, Konzerte\, Theater … Für junge Erwachsene gibt es ein eigenes Zentrum. Das Programm findet Ihr hier: www.katholikentag.de \nEs sind noch ein paar Plätze frei. Nähere Informationen und Anmeldung per Mail an barbara.goeb@erzbistum-bamberg.de \n\nWe are going to the Katholikentag (Germanwide Catholic Convention) together. There will be lots of activities – discussions\, workshops\, church fair\, worships\, concerts\, theatre … For young adults there’ll be a centre of its own. You can find the programme here: www.katholikentag.de \nThere are a few places left. More information and registration by mail to barbara.goeb@erzbistum-bamberg.de
URL:https://www.khg-in-bayreuth.de/event/fahrt-zum-katholikentag-in-stuttgart-trip-to-the-katholikentag-in-stuttgart/
LOCATION:KHG Bayreuth\, Emil-Warburg-Weg 17\, KHG Bayreuth\, 95447\, Deutschland
END:VEVENT
BEGIN:VEVENT
DTSTART;TZID=Europe/Berlin:20220526T133000
DTEND;TZID=Europe/Berlin:20220526T150000
DTSTAMP:20260423T223710
CREATED:20220413T093419Z
LAST-MODIFIED:20220422T063343Z
UID:10004756-1653571800-1653577200@www.khg-in-bayreuth.de
SUMMARY:International Bible group
DESCRIPTION:A short break in the week for spiritual empowerment. We’re going to use the method of “bible sharing”: reading a biblical text and meditating on it. What has it to say for me\, for my life\, but also for us as a community?
URL:https://www.khg-in-bayreuth.de/event/international-bible-group-2/2022-05-26/
LOCATION:KHG Bayreuth\, Emil-Warburg-Weg 17\, KHG Bayreuth\, 95447\, Deutschland
END:VEVENT
BEGIN:VEVENT
DTSTART;TZID=Europe/Berlin:20220526T162000
DTEND;TZID=Europe/Berlin:20220526T180000
DTSTAMP:20260423T223710
CREATED:20220422T063838Z
LAST-MODIFIED:20220422T063909Z
UID:10004822-1653582000-1653588000@www.khg-in-bayreuth.de
SUMMARY:KHG-Café //
DESCRIPTION:Offener Treff\, besonders auch für internationale Studierende. \n\nOpen meeting\, especially for international students.
URL:https://www.khg-in-bayreuth.de/event/khg-cafe/2022-05-26/
LOCATION:KHG Bayreuth\, Emil-Warburg-Weg 17\, KHG Bayreuth\, 95447\, Deutschland
END:VEVENT
BEGIN:VEVENT
DTSTART;TZID=Europe/Berlin:20220526T201500
DTEND;TZID=Europe/Berlin:20220526T230000
DTSTAMP:20260423T223710
CREATED:20220413T095018Z
LAST-MODIFIED:20220422T065018Z
UID:10004786-1653596100-1653606000@www.khg-in-bayreuth.de
SUMMARY:Swahili Chor Bayreuth // Suahili Choir
DESCRIPTION:Lust auf gemeinsames Singen und Bewegen? Unser „Swahili Chor Bayreuth“ singt und tanzt christliche und weltliche Lieder in Swahili\, aber auch in anderen afrikanischen Sprachen. Neueinsteiger*innen herzlich willkommen! \n\nWould you like to sing and move together? Our “Swahili Choir Bayreuth” sings and dances Christian and secular songs in Swahili\, but also in other African languages. Newcomers are welcome
URL:https://www.khg-in-bayreuth.de/event/swahili-chor-bayreuth-suahili-choir/2022-05-26/
LOCATION:KHG Bayreuth\, Emil-Warburg-Weg 17\, KHG Bayreuth\, 95447\, Deutschland
END:VEVENT
END:VCALENDAR