BEGIN:VCALENDAR
VERSION:2.0
PRODID:-//KHG Bayreuth - ECPv6.15.3//NONSGML v1.0//EN
CALSCALE:GREGORIAN
METHOD:PUBLISH
X-WR-CALNAME:KHG Bayreuth
X-ORIGINAL-URL:https://www.khg-in-bayreuth.de
X-WR-CALDESC:Veranstaltungen für KHG Bayreuth
REFRESH-INTERVAL;VALUE=DURATION:PT1H
X-Robots-Tag:noindex
X-PUBLISHED-TTL:PT1H
BEGIN:VTIMEZONE
TZID:UTC
BEGIN:STANDARD
TZOFFSETFROM:+0000
TZOFFSETTO:+0000
TZNAME:UTC
DTSTART:20220101T000000
END:STANDARD
END:VTIMEZONE
BEGIN:VTIMEZONE
TZID:Europe/Berlin
BEGIN:DAYLIGHT
TZOFFSETFROM:+0100
TZOFFSETTO:+0200
TZNAME:CEST
DTSTART:20220327T010000
END:DAYLIGHT
BEGIN:STANDARD
TZOFFSETFROM:+0200
TZOFFSETTO:+0100
TZNAME:CET
DTSTART:20221030T010000
END:STANDARD
END:VTIMEZONE
BEGIN:VEVENT
DTSTART;TZID=UTC:20220530T170000
DTEND;TZID=UTC:20220530T190000
DTSTAMP:20260423T204956
CREATED:20190228T173552Z
LAST-MODIFIED:20190228T173552Z
UID:10003930-1653930000-1653937200@www.khg-in-bayreuth.de
SUMMARY:Bibelteilen // sharing the bible
DESCRIPTION:– English version below – \nNach der Methode des “Bibelteilens in sieben Schritten” bringen wir biblische Texte zusammen mit eigenen Lebenserfahrungen\, Fragen und Zweifeln. So begeben wir uns gemeinsam auf die Suche: Was ist jetzt “dran” für mich/ für uns? Wie kann ich das\, was ich denke\, fühle und erlebe\, anhand der biblischen Überlieferung deuten? Was ist jetzt zu tun?\nHerzliche Einladung an alle Gläubigen\, Agnostiker\, Atheisten\, Sinnsucher/-innen und Leute\, die etwas bewegen wollen! \nJeden Montag um 17.00 Uhr in der KHG (Frühstücksecke im Untergeschoss – ganz hinten). \n– English version – \nFollowing the “sharing the bible in seven steps” method\, we combine biblical texts with personal experiences\, doubts and questions. Thus we engage on a shared quest: What is “due” for me/ for us now? How can I interpret my own reality in the light of the gospel? \nEveryone’s invited to share\, regardless of culture or religon. \nEvery Monday at 5 pm in the KHG (breakfast table in the basement – at the rear).
URL:https://www.khg-in-bayreuth.de/event/bibelteilen-sharing-the-bible-22/2022-05-30/
END:VEVENT
BEGIN:VEVENT
DTSTART;TZID=Europe/Berlin:20220530T180000
DTEND;TZID=Europe/Berlin:20220530T210000
DTSTAMP:20260423T204956
CREATED:20220413T094456Z
LAST-MODIFIED:20220413T094521Z
UID:10004771-1653933600-1653944400@www.khg-in-bayreuth.de
SUMMARY:Theatergruppe "Die Schwarzen Schafe" // Theatre group
DESCRIPTION:Unsere Theatergruppe “Die schwarzen Schafe” trifft sich jeden Montag. Bis zum Ende des Semesters soll wieder ein Stück geprobt und inszeniert werden. Neueinsteiger:innen willkommen! \nOur theatre group “The Black Sheep” meets every Monday. We plan to rehearse and stage another play by the end of the semester. New members are welcome!
URL:https://www.khg-in-bayreuth.de/event/theatergruppe-die-schwarzen-schafe-theatre-group-3/2022-05-30/
LOCATION:KHG Bayreuth\, Emil-Warburg-Weg 17\, KHG Bayreuth\, 95447\, Deutschland
END:VEVENT
BEGIN:VEVENT
DTSTART;TZID=Europe/Berlin:20220530T193000
DTEND;TZID=Europe/Berlin:20220530T200000
DTSTAMP:20260423T204957
CREATED:20220422T062721Z
LAST-MODIFIED:20220422T062801Z
UID:10004817-1653939000-1653940800@www.khg-in-bayreuth.de
SUMMARY:Ökumenisches Friedensgebet für die Ukraine // Ecumenical Prayer for Peace for Ukraine
DESCRIPTION:Wir treffen uns bis auf weiteres jeden Montag zu einem einfachen Friedensgebet mit Taizé-Gesängen auf der KHG-Wiese\, um für Frieden in der Ukraine und auf der Welt zu beten. \nUntil further notice we will meet every Monday for a simple prayer for peace with Taizé songs on the KHG meadow to pray for peace in Ukraine and the world.
URL:https://www.khg-in-bayreuth.de/event/oekumenisches-friedensgebet-fuer-die-ukraine-ecumenical-prayer-for-peace-for-ukraine/2022-05-30/
LOCATION:KHG Bayreuth\, Emil-Warburg-Weg 17\, KHG Bayreuth\, 95447\, Deutschland
END:VEVENT
BEGIN:VEVENT
DTSTART;TZID=Europe/Berlin:20220530T200000
DTEND;TZID=Europe/Berlin:20220530T210000
DTSTAMP:20260423T204957
CREATED:20220425T121543Z
LAST-MODIFIED:20220425T121554Z
UID:10004835-1653940800-1653944400@www.khg-in-bayreuth.de
SUMMARY:Taizé-Gebet
DESCRIPTION:Der Taizé-Kreis von ESG und KHG lädt herzlich ein zum Taizé-Gebet mit Kerzenschein\, meditativen Liedern und Texten aus der Bibel. Anschließend gibt es Tee und Kekse. \nThe Taizé circle of ESG and KHG cordially invites you to Taizé prayer with candlelight\, meditative songs and texts from the bible. Afterwards there will be tea and cookies.
URL:https://www.khg-in-bayreuth.de/event/taize-gebet-8/
LOCATION:KHG Bayreuth\, Emil-Warburg-Weg 17\, KHG Bayreuth\, 95447\, Deutschland
END:VEVENT
END:VCALENDAR