BEGIN:VCALENDAR
VERSION:2.0
PRODID:-//KHG Bayreuth - ECPv6.15.3//NONSGML v1.0//EN
CALSCALE:GREGORIAN
METHOD:PUBLISH
X-WR-CALNAME:KHG Bayreuth
X-ORIGINAL-URL:https://www.khg-in-bayreuth.de
X-WR-CALDESC:Veranstaltungen für KHG Bayreuth
REFRESH-INTERVAL;VALUE=DURATION:PT1H
X-Robots-Tag:noindex
X-PUBLISHED-TTL:PT1H
BEGIN:VTIMEZONE
TZID:Europe/Berlin
BEGIN:DAYLIGHT
TZOFFSETFROM:+0100
TZOFFSETTO:+0200
TZNAME:CEST
DTSTART:20220327T010000
END:DAYLIGHT
BEGIN:STANDARD
TZOFFSETFROM:+0200
TZOFFSETTO:+0100
TZNAME:CET
DTSTART:20221030T010000
END:STANDARD
END:VTIMEZONE
BEGIN:VEVENT
DTSTART;TZID=Europe/Berlin:20220601T100000
DTEND;TZID=Europe/Berlin:20220601T160000
DTSTAMP:20260423T205000
CREATED:20220422T074807Z
LAST-MODIFIED:20220422T074814Z
UID:10004832-1654077600-1654099200@www.khg-in-bayreuth.de
SUMMARY:KHG-Stand mit Suppe am Rondell-vouz auf dem Campus // KHG stand with soup at the Rondell-vouz on campus
DESCRIPTION:Wir beteiligen uns wieder am Initiativen-Vorstellungstag auf dem Campus\, der vom Studierendenparlament organisiert wird. Die KHG-Mittwochssuppe gibt es natürlich trotzdem – frisch aus dem Hexenkessel! \n\nWe will once again be taking part in the initiatives presentation day on campus\, organised by the student parliament. Of course\, we will still have the KHG Wednesday soup – fresh from the witches’ cauldron!
URL:https://www.khg-in-bayreuth.de/event/khg-stand-mit-suppe-am-rondell-vouz-auf-dem-campus-khg-stand-with-soup-at-the-rondell-vouz-on-campus/
LOCATION:KHG Bayreuth\, Emil-Warburg-Weg 17\, KHG Bayreuth\, 95447\, Deutschland
END:VEVENT
BEGIN:VEVENT
DTSTART;TZID=Europe/Berlin:20220601T194500
DTEND;TZID=Europe/Berlin:20220601T220000
DTSTAMP:20260423T205000
CREATED:20220413T095729Z
LAST-MODIFIED:20220422T070303Z
UID:10004800-1654112700-1654120800@www.khg-in-bayreuth.de
SUMMARY:Ökumenischer Gospelchor // Ecumenical Gospel Choir
DESCRIPTION:Lust auf gemeinsames Singen? Der ökumenische Gospelchor von KHG und ESG singt Gospel\, aber auch andere schwungvolle neue geistliche Lieder. Neueinsteiger*innen herzlich willkommen! \n\nWould you like to sing together? The ecumenical gospel choir of KHG and ESG sings gospel\, but also other lively new spiritual songs. Newcomers are welcome!
URL:https://www.khg-in-bayreuth.de/event/gospelchor-gospel-choir-3/2022-06-01/
LOCATION:KHG Bayreuth\, Emil-Warburg-Weg 17\, KHG Bayreuth\, 95447\, Deutschland
END:VEVENT
END:VCALENDAR