BEGIN:VCALENDAR
VERSION:2.0
PRODID:-//KHG Bayreuth - ECPv6.15.3//NONSGML v1.0//EN
CALSCALE:GREGORIAN
METHOD:PUBLISH
X-WR-CALNAME:KHG Bayreuth
X-ORIGINAL-URL:https://www.khg-in-bayreuth.de
X-WR-CALDESC:Veranstaltungen für KHG Bayreuth
REFRESH-INTERVAL;VALUE=DURATION:PT1H
X-Robots-Tag:noindex
X-PUBLISHED-TTL:PT1H
BEGIN:VTIMEZONE
TZID:Europe/Berlin
BEGIN:DAYLIGHT
TZOFFSETFROM:+0100
TZOFFSETTO:+0200
TZNAME:CEST
DTSTART:20220327T010000
END:DAYLIGHT
BEGIN:STANDARD
TZOFFSETFROM:+0200
TZOFFSETTO:+0100
TZNAME:CET
DTSTART:20221030T010000
END:STANDARD
END:VTIMEZONE
BEGIN:VEVENT
DTSTART;TZID=Europe/Berlin:20220607T120000
DTEND;TZID=Europe/Berlin:20220607T170000
DTSTAMP:20260423T204956
CREATED:20220330T090940Z
LAST-MODIFIED:20220520T011137Z
UID:10004722-1654603200-1654621200@www.khg-in-bayreuth.de
SUMMARY:Kanu-/Kayak-Tour Fränkische Schweiz  // Canoe/Kayak Tour Fränkische Schweiz
DESCRIPTION:Wir paddeln durchs malerische Wiesenttal in der Fränkischen Schweiz! Details zur Route findet Ihr hier: https://kajak-mietservice.de/kanutouren/ruhige-kurzstrecke.html \nTreffpunkt: am KHG-Parkplatz um 12.00 Uhr. \nBitte meldet Euch an: bis Mittwoch\, 01.06. unter khg@uni-bayreuth.de. Gebt dabei bitte auch an\, ob Ihr ein Auto zur Verfügung habt und fahren könntet. \nUnkostenbeitrag: 15 Euro für die Kanutour plus eventuell Beteiligung an Benzinkosten. \n\nWe paddle through the picturesque Wiesenttal in Franconian Switzerland! Details about the route can be found here: https://kajak-mietservice.de/kanutouren/ruhige-kurzstrecke.html \nMeeting point: at the KHG parking lot at 12.00 o’clock. \nPlease register: until Wednesday\, 01.06. at khg@uni-bayreuth.de. Please let us know if you have a car available and if you can drive. \nContribution to expenses: 15 Euro for the canoe trip plus possible contribution to fuel costs.
URL:https://www.khg-in-bayreuth.de/event/kanufahrt-canoe-trip/
LOCATION:KHG Bayreuth\, Emil-Warburg-Weg 17\, KHG Bayreuth\, 95447\, Deutschland
END:VEVENT
END:VCALENDAR