BEGIN:VCALENDAR
VERSION:2.0
PRODID:-//KHG Bayreuth - ECPv6.15.3//NONSGML v1.0//EN
CALSCALE:GREGORIAN
METHOD:PUBLISH
X-ORIGINAL-URL:https://www.khg-in-bayreuth.de
X-WR-CALDESC:Veranstaltungen für KHG Bayreuth
REFRESH-INTERVAL;VALUE=DURATION:PT1H
X-Robots-Tag:noindex
X-PUBLISHED-TTL:PT1H
BEGIN:VTIMEZONE
TZID:Europe/Berlin
BEGIN:DAYLIGHT
TZOFFSETFROM:+0100
TZOFFSETTO:+0200
TZNAME:CEST
DTSTART:20220327T010000
END:DAYLIGHT
BEGIN:STANDARD
TZOFFSETFROM:+0200
TZOFFSETTO:+0100
TZNAME:CET
DTSTART:20221030T010000
END:STANDARD
END:VTIMEZONE
BEGIN:VEVENT
DTSTART;TZID=Europe/Berlin:20220608T120000
DTEND;TZID=Europe/Berlin:20220608T123000
DTSTAMP:20260423T205133
CREATED:20220330T095549Z
LAST-MODIFIED:20220427T091038Z
UID:10004736-1654689600-1654691400@www.khg-in-bayreuth.de
SUMMARY:Mittagspause für Leib und Seele // Lunch break for body and soul
DESCRIPTION:Herzliche Einladung zur meditativen Atempause in der Albertus-Magnus-Kapelle der KHG\, anschließend (gegen 12.30 Uhr) Mittagssuppe für alle. \n\nCordial invitation to a meditative respite in the Albertus Magnus Chapel of the KHG\, followed (around 12:30 p.m.) by lunch soup for all. \n 
URL:https://www.khg-in-bayreuth.de/event/mittagspause-fuer-leib-und-seele-lunch-break-for-body-and-soul-2022-05-04-2022-05-11/2022-06-08/
LOCATION:KHG Bayreuth\, Emil-Warburg-Weg 17\, KHG Bayreuth\, 95447\, Deutschland
END:VEVENT
BEGIN:VEVENT
DTSTART;TZID=Europe/Berlin:20220608T180000
DTEND;TZID=Europe/Berlin:20220608T200000
DTSTAMP:20260423T205134
CREATED:20220411T085634Z
LAST-MODIFIED:20220411T085846Z
UID:10004751-1654711200-1654718400@www.khg-in-bayreuth.de
SUMMARY:Ökumenische Müllsammelaktion // Ecumenical trash collection
DESCRIPTION:Treffpunkt: 18.00 Uhr ESG Bayreuth \nNähere Infos folgen. \n  \nMeeting point: 18.00 ESG Bayreuth \nMore info will follow.
URL:https://www.khg-in-bayreuth.de/event/oekumenische-muellsammelaktion-ecumenical-trash-collection/
LOCATION:KHG Bayreuth\, Emil-Warburg-Weg 17\, KHG Bayreuth\, 95447\, Deutschland
END:VEVENT
BEGIN:VEVENT
DTSTART;TZID=Europe/Berlin:20220608T194500
DTEND;TZID=Europe/Berlin:20220608T220000
DTSTAMP:20260423T205134
CREATED:20220413T095729Z
LAST-MODIFIED:20220422T070303Z
UID:10004801-1654717500-1654725600@www.khg-in-bayreuth.de
SUMMARY:Ökumenischer Gospelchor // Ecumenical Gospel Choir
DESCRIPTION:Lust auf gemeinsames Singen? Der ökumenische Gospelchor von KHG und ESG singt Gospel\, aber auch andere schwungvolle neue geistliche Lieder. Neueinsteiger*innen herzlich willkommen! \n\nWould you like to sing together? The ecumenical gospel choir of KHG and ESG sings gospel\, but also other lively new spiritual songs. Newcomers are welcome!
URL:https://www.khg-in-bayreuth.de/event/gospelchor-gospel-choir-3/2022-06-08/
LOCATION:KHG Bayreuth\, Emil-Warburg-Weg 17\, KHG Bayreuth\, 95447\, Deutschland
END:VEVENT
END:VCALENDAR