BEGIN:VCALENDAR
VERSION:2.0
PRODID:-//KHG Bayreuth - ECPv6.15.3//NONSGML v1.0//EN
CALSCALE:GREGORIAN
METHOD:PUBLISH
X-ORIGINAL-URL:https://www.khg-in-bayreuth.de
X-WR-CALDESC:Veranstaltungen für KHG Bayreuth
REFRESH-INTERVAL;VALUE=DURATION:PT1H
X-Robots-Tag:noindex
X-PUBLISHED-TTL:PT1H
BEGIN:VTIMEZONE
TZID:Europe/Berlin
BEGIN:DAYLIGHT
TZOFFSETFROM:+0100
TZOFFSETTO:+0200
TZNAME:CEST
DTSTART:20220327T010000
END:DAYLIGHT
BEGIN:STANDARD
TZOFFSETFROM:+0200
TZOFFSETTO:+0100
TZNAME:CET
DTSTART:20221030T010000
END:STANDARD
END:VTIMEZONE
BEGIN:VEVENT
DTSTART;TZID=Europe/Berlin:20220621T201500
DTEND;TZID=Europe/Berlin:20220621T220000
DTSTAMP:20260423T205137
CREATED:20220330T091537Z
LAST-MODIFIED:20220613T121812Z
UID:10004725-1655842500-1655848800@www.khg-in-bayreuth.de
SUMMARY:Kreativabend // Creative evening
DESCRIPTION:Wir werden kreativ!\nEgal\, ob Du ein kunsthandwerkliches Talent bist\, Dich gerne expressionistisch in bunten Farben ausdrückst oder (gefühlt) zehn linke Daumen hast – bei unserem Kreativabend bist Du in jedem Fall richtig! Je nach Lust und Laune kannst Du Fotoboxen zum Verschenken basteln oder auch Baumwollbeutel bemalen\, bestempeln oder bedrucken. Und dabei sind natürlich Spaß und nette Gespräche garantiert … \n\nLet’s get creative!\nNo matter whether you are talented in arts and crafts\, like to express yourself expressionistically in bright colours or have (what feels like) ten left thumbs – our creative evening is the right place for you! Depending on your mood\, you can make photo boxes to give away or paint\, stamp or print cotton bags. And of course\, fun and nice conversations are guaranteed …
URL:https://www.khg-in-bayreuth.de/event/werwolfabend-werewolf-evening/
LOCATION:KHG Bayreuth\, Emil-Warburg-Weg 17\, KHG Bayreuth\, 95447\, Deutschland
END:VEVENT
END:VCALENDAR