BEGIN:VCALENDAR
VERSION:2.0
PRODID:-//KHG Bayreuth - ECPv6.15.3//NONSGML v1.0//EN
CALSCALE:GREGORIAN
METHOD:PUBLISH
X-WR-CALNAME:KHG Bayreuth
X-ORIGINAL-URL:https://www.khg-in-bayreuth.de
X-WR-CALDESC:Veranstaltungen für KHG Bayreuth
REFRESH-INTERVAL;VALUE=DURATION:PT1H
X-Robots-Tag:noindex
X-PUBLISHED-TTL:PT1H
BEGIN:VTIMEZONE
TZID:Europe/Berlin
BEGIN:DAYLIGHT
TZOFFSETFROM:+0100
TZOFFSETTO:+0200
TZNAME:CEST
DTSTART:20220327T010000
END:DAYLIGHT
BEGIN:STANDARD
TZOFFSETFROM:+0200
TZOFFSETTO:+0100
TZNAME:CET
DTSTART:20221030T010000
END:STANDARD
END:VTIMEZONE
BEGIN:VEVENT
DTSTART;TZID=Europe/Berlin:20220629T120000
DTEND;TZID=Europe/Berlin:20220629T123000
DTSTAMP:20260423T162459
CREATED:20220330T095549Z
LAST-MODIFIED:20220427T091038Z
UID:10004739-1656504000-1656505800@www.khg-in-bayreuth.de
SUMMARY:Mittagspause für Leib und Seele // Lunch break for body and soul
DESCRIPTION:Herzliche Einladung zur meditativen Atempause in der Albertus-Magnus-Kapelle der KHG\, anschließend (gegen 12.30 Uhr) Mittagssuppe für alle. \n\nCordial invitation to a meditative respite in the Albertus Magnus Chapel of the KHG\, followed (around 12:30 p.m.) by lunch soup for all. \n 
URL:https://www.khg-in-bayreuth.de/event/mittagspause-fuer-leib-und-seele-lunch-break-for-body-and-soul-2022-05-04-2022-05-11/2022-06-29/
LOCATION:KHG Bayreuth\, Emil-Warburg-Weg 17\, KHG Bayreuth\, 95447\, Deutschland
END:VEVENT
BEGIN:VEVENT
DTSTART;TZID=Europe/Berlin:20220629T180000
DTEND;TZID=Europe/Berlin:20220629T200000
DTSTAMP:20260423T162459
CREATED:20220406T083304Z
LAST-MODIFIED:20220621T124519Z
UID:10004750-1656525600-1656532800@www.khg-in-bayreuth.de
SUMMARY:Beach-Volleyball mit ESG/SMD // Beach volleyball with ESG/SMD
DESCRIPTION:ESG\, KHG & SMD spielen miteinander Beachvolleyball und knüpfen damit endlich wieder an die Beachvolleyballturniere vor Corona an\, bei denen wir immer sehr viel Spaß hatten. Sei dabei! Wir freuen uns. – Anmeldung bis 26.6. (Wir müssen für den Einlass die Namen an die Uni weitermelden. Also meldet Euch zur Sicherheit am besten gleich an…) \n– English version –  \nESG\, KHG & SMD will play beach volleyball together and finally continue the beach volleyball tournaments before Corona\, where we always had a lot of fun. Be there! We are looking forward to it. – Registration until 26.6. (We have to pass on the names to the university for admission. So to be on the safe side\, register now…)
URL:https://www.khg-in-bayreuth.de/event/beach-volleyball/
LOCATION:KHG Bayreuth\, Emil-Warburg-Weg 17\, KHG Bayreuth\, 95447\, Deutschland
END:VEVENT
BEGIN:VEVENT
DTSTART;TZID=Europe/Berlin:20220629T194500
DTEND;TZID=Europe/Berlin:20220629T220000
DTSTAMP:20260423T162459
CREATED:20220413T095729Z
LAST-MODIFIED:20220422T070303Z
UID:10004804-1656531900-1656540000@www.khg-in-bayreuth.de
SUMMARY:Ökumenischer Gospelchor // Ecumenical Gospel Choir
DESCRIPTION:Lust auf gemeinsames Singen? Der ökumenische Gospelchor von KHG und ESG singt Gospel\, aber auch andere schwungvolle neue geistliche Lieder. Neueinsteiger*innen herzlich willkommen! \n\nWould you like to sing together? The ecumenical gospel choir of KHG and ESG sings gospel\, but also other lively new spiritual songs. Newcomers are welcome!
URL:https://www.khg-in-bayreuth.de/event/gospelchor-gospel-choir-3/2022-06-29/
LOCATION:KHG Bayreuth\, Emil-Warburg-Weg 17\, KHG Bayreuth\, 95447\, Deutschland
END:VEVENT
END:VCALENDAR