BEGIN:VCALENDAR
VERSION:2.0
PRODID:-//KHG Bayreuth - ECPv6.15.3//NONSGML v1.0//EN
CALSCALE:GREGORIAN
METHOD:PUBLISH
X-WR-CALNAME:KHG Bayreuth
X-ORIGINAL-URL:https://www.khg-in-bayreuth.de
X-WR-CALDESC:Veranstaltungen für KHG Bayreuth
REFRESH-INTERVAL;VALUE=DURATION:PT1H
X-Robots-Tag:noindex
X-PUBLISHED-TTL:PT1H
BEGIN:VTIMEZONE
TZID:UTC
BEGIN:STANDARD
TZOFFSETFROM:+0000
TZOFFSETTO:+0000
TZNAME:UTC
DTSTART:20220101T000000
END:STANDARD
END:VTIMEZONE
BEGIN:VTIMEZONE
TZID:Europe/Berlin
BEGIN:DAYLIGHT
TZOFFSETFROM:+0100
TZOFFSETTO:+0200
TZNAME:CEST
DTSTART:20220327T010000
END:DAYLIGHT
BEGIN:STANDARD
TZOFFSETFROM:+0200
TZOFFSETTO:+0100
TZNAME:CET
DTSTART:20221030T010000
END:STANDARD
END:VTIMEZONE
BEGIN:VEVENT
DTSTART;TZID=UTC:20220704T170000
DTEND;TZID=UTC:20220704T190000
DTSTAMP:20260423T162344
CREATED:20190228T173552Z
LAST-MODIFIED:20190228T173552Z
UID:10003935-1656954000-1656961200@www.khg-in-bayreuth.de
SUMMARY:Bibelteilen // sharing the bible
DESCRIPTION:– English version below – \nNach der Methode des “Bibelteilens in sieben Schritten” bringen wir biblische Texte zusammen mit eigenen Lebenserfahrungen\, Fragen und Zweifeln. So begeben wir uns gemeinsam auf die Suche: Was ist jetzt “dran” für mich/ für uns? Wie kann ich das\, was ich denke\, fühle und erlebe\, anhand der biblischen Überlieferung deuten? Was ist jetzt zu tun?\nHerzliche Einladung an alle Gläubigen\, Agnostiker\, Atheisten\, Sinnsucher/-innen und Leute\, die etwas bewegen wollen! \nJeden Montag um 17.00 Uhr in der KHG (Frühstücksecke im Untergeschoss – ganz hinten). \n– English version – \nFollowing the “sharing the bible in seven steps” method\, we combine biblical texts with personal experiences\, doubts and questions. Thus we engage on a shared quest: What is “due” for me/ for us now? How can I interpret my own reality in the light of the gospel? \nEveryone’s invited to share\, regardless of culture or religon. \nEvery Monday at 5 pm in the KHG (breakfast table in the basement – at the rear).
URL:https://www.khg-in-bayreuth.de/event/bibelteilen-sharing-the-bible-22/2022-07-04/
END:VEVENT
BEGIN:VEVENT
DTSTART;TZID=Europe/Berlin:20220704T170000
DTEND;TZID=Europe/Berlin:20220704T190000
DTSTAMP:20260423T162344
CREATED:20210823T112909Z
LAST-MODIFIED:20211125T211415Z
UID:10004532-1656954000-1656961200@www.khg-in-bayreuth.de
SUMMARY:Hirngeflüster - Lernen\, das Gedächtnis effektiv zu trainieren!
DESCRIPTION:In dem Vortrag “Hirngeflüster” erklärt Neurobiologe Prof. Dr. Martin Korte\,TU Braunschweig\, warum uns nicht alle Formen des Gehirnjoggings weiterbringen und was wir wirklich tun können\, um unsere Gedächtnisleistung dauerhaft zu erhalten und zu verbessern. \nKartenreservierung: Tel. 0921- 60 800 980 \nGebühr: 6 Euro –  Studierende 3 €\, Helfer:innen beim Einlass frei \nKoop. Familienbildung Bayreuth\, Evang.reform. Gemeinde\, ESG \n  \n 
URL:https://www.khg-in-bayreuth.de/event/hirngefluester-lernen-unser-gedaechtnis-effektiv-zu-trainieren/
LOCATION:Das Zentrum\, Äußere Badstr. 7a\, Bayreuth\, 95448\, Deutschland
END:VEVENT
BEGIN:VEVENT
DTSTART;TZID=Europe/Berlin:20220704T180000
DTEND;TZID=Europe/Berlin:20220704T183000
DTSTAMP:20260423T162344
CREATED:20220610T101736Z
LAST-MODIFIED:20220621T132648Z
UID:10004845-1656957600-1656959400@www.khg-in-bayreuth.de
SUMMARY:Ökum. Friedensgebet für die Ukraine // Ecumenical Peace Prayer for Ukraine
DESCRIPTION:Wir treffen uns bis auf weiteres jeden Montag zu einem einfachen Friedensgebet mit Taizé-Gesängen auf der KHG-Wiese\, um für Frieden in der Ukraine und auf der Welt zu beten. \nUntil further notice we will meet every Monday for a simple prayer for peace with Taizé songs on the KHG meadow to pray for peace in Ukraine and the world.
URL:https://www.khg-in-bayreuth.de/event/oekumenisches-friedensgebet-fuer-die-ukraine-ecumenical-pryer-for-peace-for-ukraine-2022-06-27/2022-07-04/
LOCATION:KHG Bayreuth\, Emil-Warburg-Weg 17\, KHG Bayreuth\, 95447\, Deutschland
END:VEVENT
BEGIN:VEVENT
DTSTART;TZID=Europe/Berlin:20220704T180000
DTEND;TZID=Europe/Berlin:20220704T210000
DTSTAMP:20260423T162344
CREATED:20220413T094456Z
LAST-MODIFIED:20220413T094521Z
UID:10004776-1656957600-1656968400@www.khg-in-bayreuth.de
SUMMARY:Theatergruppe "Die Schwarzen Schafe" // Theatre group
DESCRIPTION:Unsere Theatergruppe “Die schwarzen Schafe” trifft sich jeden Montag. Bis zum Ende des Semesters soll wieder ein Stück geprobt und inszeniert werden. Neueinsteiger:innen willkommen! \nOur theatre group “The Black Sheep” meets every Monday. We plan to rehearse and stage another play by the end of the semester. New members are welcome!
URL:https://www.khg-in-bayreuth.de/event/theatergruppe-die-schwarzen-schafe-theatre-group-3/2022-07-04/
LOCATION:KHG Bayreuth\, Emil-Warburg-Weg 17\, KHG Bayreuth\, 95447\, Deutschland
END:VEVENT
BEGIN:VEVENT
DTSTART;TZID=Europe/Berlin:20220704T193000
DTEND;TZID=Europe/Berlin:20220704T213000
DTSTAMP:20260423T162344
CREATED:20211125T211649Z
LAST-MODIFIED:20211125T211735Z
UID:10004664-1656963000-1656970200@www.khg-in-bayreuth.de
SUMMARY:Wie lernen Kinder im digitalen Zeitalter?
DESCRIPTION:Ein Vortrag von Neurobiologe Prof. Dr. Martin Korte\,TU Braunschweig. \nKartenreservierung: Tel. 0921- 60 800 980 \nGebühr: 6 Euro –  Studierende 3 €\, Helfer:innen beim Einlass frei \nKoop. Familienbildung Bayreuth\, Evang.reform. Gemeinde\, ESG
URL:https://www.khg-in-bayreuth.de/event/wie-lernen-kinder-im-digitalen-zeitalter/
LOCATION:KHG Bayreuth\, Emil-Warburg-Weg 17\, KHG Bayreuth\, 95447\, Deutschland
END:VEVENT
END:VCALENDAR