BEGIN:VCALENDAR
VERSION:2.0
PRODID:-//KHG Bayreuth - ECPv6.15.3//NONSGML v1.0//EN
CALSCALE:GREGORIAN
METHOD:PUBLISH
X-WR-CALNAME:KHG Bayreuth
X-ORIGINAL-URL:https://www.khg-in-bayreuth.de
X-WR-CALDESC:Veranstaltungen für KHG Bayreuth
REFRESH-INTERVAL;VALUE=DURATION:PT1H
X-Robots-Tag:noindex
X-PUBLISHED-TTL:PT1H
BEGIN:VTIMEZONE
TZID:Europe/Berlin
BEGIN:DAYLIGHT
TZOFFSETFROM:+0100
TZOFFSETTO:+0200
TZNAME:CEST
DTSTART:20220327T010000
END:DAYLIGHT
BEGIN:STANDARD
TZOFFSETFROM:+0200
TZOFFSETTO:+0100
TZNAME:CET
DTSTART:20221030T010000
END:STANDARD
END:VTIMEZONE
BEGIN:VEVENT
DTSTART;TZID=Europe/Berlin:20220705T201500
DTEND;TZID=Europe/Berlin:20220705T220000
DTSTAMP:20260423T175528
CREATED:20220330T092123Z
LAST-MODIFIED:20220422T080110Z
UID:10004728-1657052100-1657058400@www.khg-in-bayreuth.de
SUMMARY:Grillchallenge 2.0 // Barbecue Challenge 2.0
DESCRIPTION:Wer entzündet am schnellsten seinen Grill? Wer kann auch mit kuriosen Zutaten ein leckeres Menü zaubern? Wer kann knifflige Quizfragen rund um das Grillen beantworten? Vor allem aber: Wer hat am meisten Spaß an diesem Abend?\nUm Anmeldung wird gebeten! \n\nWho can light their barbecue the fastest? Who can conjure up a delicious menu even with strange ingredients? Who can answer tricky quiz questions about barbecuing? But above all: Who will have the most fun this evening?\nRegistration is requested!
URL:https://www.khg-in-bayreuth.de/event/grillchallenge-2-0-barbecue-challenge-2-0/
LOCATION:KHG Bayreuth\, Emil-Warburg-Weg 17\, KHG Bayreuth\, 95447\, Deutschland
END:VEVENT
END:VCALENDAR