BEGIN:VCALENDAR
VERSION:2.0
PRODID:-//KHG Bayreuth - ECPv6.15.3//NONSGML v1.0//EN
CALSCALE:GREGORIAN
METHOD:PUBLISH
X-WR-CALNAME:KHG Bayreuth
X-ORIGINAL-URL:https://www.khg-in-bayreuth.de
X-WR-CALDESC:Veranstaltungen für KHG Bayreuth
REFRESH-INTERVAL;VALUE=DURATION:PT1H
X-Robots-Tag:noindex
X-PUBLISHED-TTL:PT1H
BEGIN:VTIMEZONE
TZID:Europe/Berlin
BEGIN:DAYLIGHT
TZOFFSETFROM:+0100
TZOFFSETTO:+0200
TZNAME:CEST
DTSTART:20220327T010000
END:DAYLIGHT
BEGIN:STANDARD
TZOFFSETFROM:+0200
TZOFFSETTO:+0100
TZNAME:CET
DTSTART:20221030T010000
END:STANDARD
END:VTIMEZONE
BEGIN:VEVENT
DTSTART;TZID=Europe/Berlin:20221007T070000
DTEND;TZID=Europe/Berlin:20221007T090000
DTSTAMP:20260423T114729
CREATED:20220809T163137Z
LAST-MODIFIED:20220905T132841Z
UID:10004857-1665126000-1665133200@www.khg-in-bayreuth.de
SUMMARY:Ökumenisches Frühstück für Frühstarter in der KHG // Ecumenical breakfast for early starters in the KHG
DESCRIPTION:Vor dem Vorkurs noch ein leckeres Frühstück genießen\, neue Leute kennenlernen und entspannt in den Tag starten – dazu laden KHG und ESG herzlich ein. Kommt und geht\, wann Ihr wollt! \nEnjoy a delicious breakfast before the pre-course\, meet new people and start the day relaxed – KHG and ESG cordially invite you to do so. Come and go when you want!
URL:https://www.khg-in-bayreuth.de/event/oekumenisches-fruehstueck-fuer-fruehstarter-in-der-khg/
LOCATION:KHG Bayreuth\, Emil-Warburg-Weg 17\, Bayreuth\, 95447\, Deutschland
END:VEVENT
BEGIN:VEVENT
DTSTART;TZID=Europe/Berlin:20221007T163000
DTEND;TZID=Europe/Berlin:20221007T180000
DTSTAMP:20260423T114729
CREATED:20221004T140259Z
LAST-MODIFIED:20221004T140259Z
UID:10004900-1665160200-1665165600@www.khg-in-bayreuth.de
SUMMARY:Ecumenical meeting for international students at the ESG
DESCRIPTION:As part of the Welcome Week organized by the International Office\, you are heartly welcome to get to know KHG and ESG at a cosy get-together with coffee\, tea and cake.
URL:https://www.khg-in-bayreuth.de/event/ecumenical-meeting-for-international-students-at-the-esg/
END:VEVENT
END:VCALENDAR