BEGIN:VCALENDAR
VERSION:2.0
PRODID:-//KHG Bayreuth - ECPv6.15.3//NONSGML v1.0//EN
CALSCALE:GREGORIAN
METHOD:PUBLISH
X-ORIGINAL-URL:https://www.khg-in-bayreuth.de
X-WR-CALDESC:Veranstaltungen für KHG Bayreuth
REFRESH-INTERVAL;VALUE=DURATION:PT1H
X-Robots-Tag:noindex
X-PUBLISHED-TTL:PT1H
BEGIN:VTIMEZONE
TZID:Europe/Berlin
BEGIN:DAYLIGHT
TZOFFSETFROM:+0100
TZOFFSETTO:+0200
TZNAME:CEST
DTSTART:20220327T010000
END:DAYLIGHT
BEGIN:STANDARD
TZOFFSETFROM:+0200
TZOFFSETTO:+0100
TZNAME:CET
DTSTART:20221030T010000
END:STANDARD
END:VTIMEZONE
BEGIN:VEVENT
DTSTART;TZID=Europe/Berlin:20221008T180000
DTEND;TZID=Europe/Berlin:20221008T200000
DTSTAMP:20260423T114829
CREATED:20221004T141448Z
LAST-MODIFIED:20221004T141448Z
UID:10004901-1665252000-1665259200@www.khg-in-bayreuth.de
SUMMARY:Speed Friending (ESN Welcome Week)
DESCRIPTION:As part of the ESN Welcome Week\, there’ll be a “Speed Friending” event at the KHG. Please register here: https://forms.office.com/Pages/ResponsePage.aspx?id=JD7WVG2sXkyo1rqXigsoboHxlhKf2BBGuvn8i6HJbgxUOTdZUlpUMzBVOUc1STlZR1ZXSUlDUjFJSi4u
URL:https://www.khg-in-bayreuth.de/event/speed-friending-esn-welcome-week/
LOCATION:KHG Bayreuth\, Emil-Warburg-Weg 17\, Bayreuth\, 95447\, Deutschland
END:VEVENT
END:VCALENDAR