BEGIN:VCALENDAR
VERSION:2.0
PRODID:-//KHG Bayreuth - ECPv6.15.3//NONSGML v1.0//EN
CALSCALE:GREGORIAN
METHOD:PUBLISH
X-WR-CALNAME:KHG Bayreuth
X-ORIGINAL-URL:https://www.khg-in-bayreuth.de
X-WR-CALDESC:Veranstaltungen für KHG Bayreuth
REFRESH-INTERVAL;VALUE=DURATION:PT1H
X-Robots-Tag:noindex
X-PUBLISHED-TTL:PT1H
BEGIN:VTIMEZONE
TZID:Europe/Berlin
BEGIN:DAYLIGHT
TZOFFSETFROM:+0100
TZOFFSETTO:+0200
TZNAME:CEST
DTSTART:20220327T010000
END:DAYLIGHT
BEGIN:STANDARD
TZOFFSETFROM:+0200
TZOFFSETTO:+0100
TZNAME:CET
DTSTART:20221030T010000
END:STANDARD
END:VTIMEZONE
BEGIN:VEVENT
DTSTART;TZID=Europe/Berlin:20221018T180000
DTEND;TZID=Europe/Berlin:20221018T193000
DTSTAMP:20260423T114814
CREATED:20221012T230148Z
LAST-MODIFIED:20221020T151110Z
UID:10004973-1666116000-1666121400@www.khg-in-bayreuth.de
SUMMARY:"Gospelchor Bayreuth" // "Gospel Choir Bayreuth"
DESCRIPTION:Unser “Gospelchor Bayreuth”\, der ökumenische Gospelchor von KHG und ESG\, probt jeden Dienstag in der KHG. Neue Sänger*innen sind jederzeit herzlich willkommen! \n\nOur “Gospelchor Bayreuth”\, the ecumenical gospel choir of KHG and ESG\, rehearses every Tuesday in the KHG. New singers are always welcome!
URL:https://www.khg-in-bayreuth.de/event/probe-des-gospelchor-bayreuth-rehearsal-of-our-gospel-choir-bayreuth/2022-10-18/
LOCATION:KHG Bayreuth\, Emil-Warburg-Weg 17\, KHG Bayreuth\, 95447\, Deutschland
END:VEVENT
BEGIN:VEVENT
DTSTART;TZID=Europe/Berlin:20221018T200000
DTEND;TZID=Europe/Berlin:20221018T220000
DTSTAMP:20260423T114814
CREATED:20220809T164045Z
LAST-MODIFIED:20220905T133550Z
UID:10004861-1666123200-1666130400@www.khg-in-bayreuth.de
SUMMARY:KHG-Barabend: Werwolfabend mit Mitbring-Dessertbuffet // KHG Bar Evening: Werewolf Evening with Bring Your Own Dessert Buffet
DESCRIPTION:Ein Kennenlernabend für alte und neue Gesichter – wir spielen das beliebte Gruppenspiel „Werwolf“. Für die kleinen Pausen zwischendurch gibt es die Möglichkeit\, sich an der Bar mit Getränken und Desserts zu stärken – wir freuen uns\, wenn Ihr ein leckeres Dessert für das Buffet mitbringt! \nA get-to-know-evening for old and new faces – we play the popular group game “Werewolf”. For the small breaks in between there is the possibility to strengthen yourself at the bar with drinks and desserts – we would be happy if you bring a delicious dessert for the buffet!
URL:https://www.khg-in-bayreuth.de/event/khg-barabend-werwolfabend-mit-mitbring-dessertbuffet/
LOCATION:KHG Bayreuth\, Emil-Warburg-Weg 17\, Bayreuth\, 95447\, Deutschland
END:VEVENT
END:VCALENDAR