BEGIN:VCALENDAR
VERSION:2.0
PRODID:-//KHG Bayreuth - ECPv6.15.3//NONSGML v1.0//EN
CALSCALE:GREGORIAN
METHOD:PUBLISH
X-WR-CALNAME:KHG Bayreuth
X-ORIGINAL-URL:https://www.khg-in-bayreuth.de
X-WR-CALDESC:Veranstaltungen für KHG Bayreuth
REFRESH-INTERVAL;VALUE=DURATION:PT1H
X-Robots-Tag:noindex
X-PUBLISHED-TTL:PT1H
BEGIN:VTIMEZONE
TZID:Europe/Berlin
BEGIN:DAYLIGHT
TZOFFSETFROM:+0100
TZOFFSETTO:+0200
TZNAME:CEST
DTSTART:20220327T010000
END:DAYLIGHT
BEGIN:STANDARD
TZOFFSETFROM:+0200
TZOFFSETTO:+0100
TZNAME:CET
DTSTART:20221030T010000
END:STANDARD
END:VTIMEZONE
BEGIN:VEVENT
DTSTART;TZID=Europe/Berlin:20221023T094500
DTEND;TZID=Europe/Berlin:20221023T170000
DTSTAMP:20260423T114724
CREATED:20220809T164634Z
LAST-MODIFIED:20221021T114919Z
UID:10004864-1666518300-1666544400@www.khg-in-bayreuth.de
SUMMARY:Ökumenische Wanderung  // Ecumenical hike
DESCRIPTION:– English version below – \nHerzliche Einladung\, beim Wandern den Kopf frei zu bekommen und neue Leute kennenzulernen! \nWir treffen uns um 9:45 am Bahnhof in Bayreuth und fahren um 10:02 mit dem Zug (RE 32) nach Kulmbach. Studierende aus Kulmbach sind herzlich eingeladen\, sich uns um 10.30 Uhr am Bahnhof Kulmbach anzuschließen! \nDie Wanderung geht dann über die Plassenburg und den dahinter liegenden Höhenrücken nach Waldau und von dort aus nach Harsdorf\, wo wir wieder in die Bahn steigen\, um nach Bayreuth bzw. Kulmbach zurückzufahren. \nDie Gesamtstrecke der Wanderung beträgt ca. 18km. Somit sind wir am späteren Nachmittag wieder zurück in Bayreuth/ Kulmbach. Wer dann noch möchte\, kann spontan mit uns entscheiden\, ob wir uns gemeinsam noch in eine Kneipe setzen oder in die ESG oder KHG gehen und Pizza bestellen. \nFalls es in Strömen regnen sollte\, besuchen wir alternativ die Plassenburg in Kulmbach mit ihren spannenden Ausstellungen. \nFür die Bahnfahrt braucht Ihr Euren Studierendenausweis mit Semesterticket. Bitte achtet darauf\, dass er für das neue Wintersemester validiert ist! \nAußerdem braucht Ihr für unterwegs eine Brotzeit (wir kehren mittags diesmal nicht ein) und eine ausreichend große Trinkflasche mit Wasser o. ä.. Achtet bitte auch auf gutes Schuhwerk und wetterfeste Kleidung! \n– English version – \nA warm invitation to clear your head and meet new people while hiking! \nWe will meet at 9:45 at the train station in Bayreuth and take the train (RE 32) to Kulmbach at 10:02. Students from Kulmbach are welcome to join us at 10:30 at Kulmbach station! \nThe hike then goes over the Plassenburg and the ridge behind it to Waldau and from there to Harsdorf\, where we get back on the train to go back to Bayreuth or Kulmbach. \nThe total distance of the hike is about 18km. So we will be back in Bayreuth/ Kulmbach in the late afternoon. Whoever still wants to can spontaneously decide with us if we want to go to a pub or to the ESG or KHG and order pizza. \nIf it rains cats and dogs\, we’re going to visit the Plassenburg (Renaissance castle) in Kulmbach with its interesting exhibitions. \nFor the train journey you will need your student ID with semester ticket. Please make sure that it is validated for the new winter semester! \nYou will also need a snack for the journey (we will not be stopping for lunch this time) and a sufficiently large water bottle. Please also make sure you wear good shoes and weatherproof clothing! \n  \n 
URL:https://www.khg-in-bayreuth.de/event/oekumenische-wanderung-rund-um-kulmbach/
LOCATION:Emil-Warburg-Weg 17\, Bayreuth\, 95447\, Deutschland
END:VEVENT
END:VCALENDAR