BEGIN:VCALENDAR
VERSION:2.0
PRODID:-//KHG Bayreuth - ECPv6.15.3//NONSGML v1.0//EN
CALSCALE:GREGORIAN
METHOD:PUBLISH
X-WR-CALNAME:KHG Bayreuth
X-ORIGINAL-URL:https://www.khg-in-bayreuth.de
X-WR-CALDESC:Veranstaltungen für KHG Bayreuth
REFRESH-INTERVAL;VALUE=DURATION:PT1H
X-Robots-Tag:noindex
X-PUBLISHED-TTL:PT1H
BEGIN:VTIMEZONE
TZID:Europe/Berlin
BEGIN:DAYLIGHT
TZOFFSETFROM:+0100
TZOFFSETTO:+0200
TZNAME:CEST
DTSTART:20220327T010000
END:DAYLIGHT
BEGIN:STANDARD
TZOFFSETFROM:+0200
TZOFFSETTO:+0100
TZNAME:CET
DTSTART:20221030T010000
END:STANDARD
END:VTIMEZONE
BEGIN:VEVENT
DTSTART;TZID=Europe/Berlin:20221106T190000
DTEND;TZID=Europe/Berlin:20221106T200000
DTSTAMP:20260423T115348
CREATED:20221031T184330Z
LAST-MODIFIED:20221031T184330Z
UID:10005310-1667761200-1667764800@www.khg-in-bayreuth.de
SUMMARY:KHG-Messe // Holy Mass at KHG
DESCRIPTION:Wir feiern Gottesdienst in der KHG-Kapelle. Im Anschluss seid Ihr herzlich eingeladen\, noch dazubleiben – zu Pizza\, Spielen\, Ratschen … \nWe celebrate Mass in the KHG chapel. Afterwards you’re invited to stay for pizza\, games and chat …
URL:https://www.khg-in-bayreuth.de/event/khg-messe-holy-mass-at-khg/
LOCATION:KHG Bayreuth\, Emil-Warburg-Weg 17\, KHG Bayreuth\, 95447\, Deutschland
END:VEVENT
END:VCALENDAR