BEGIN:VCALENDAR
VERSION:2.0
PRODID:-//KHG Bayreuth - ECPv6.15.3//NONSGML v1.0//EN
CALSCALE:GREGORIAN
METHOD:PUBLISH
X-WR-CALNAME:KHG Bayreuth
X-ORIGINAL-URL:https://www.khg-in-bayreuth.de
X-WR-CALDESC:Veranstaltungen für KHG Bayreuth
REFRESH-INTERVAL;VALUE=DURATION:PT1H
X-Robots-Tag:noindex
X-PUBLISHED-TTL:PT1H
BEGIN:VTIMEZONE
TZID:Europe/Berlin
BEGIN:DAYLIGHT
TZOFFSETFROM:+0100
TZOFFSETTO:+0200
TZNAME:CEST
DTSTART:20220327T010000
END:DAYLIGHT
BEGIN:STANDARD
TZOFFSETFROM:+0200
TZOFFSETTO:+0100
TZNAME:CET
DTSTART:20221030T010000
END:STANDARD
END:VTIMEZONE
BEGIN:VEVENT
DTSTART;TZID=Europe/Berlin:20221109T120000
DTEND;TZID=Europe/Berlin:20221109T133000
DTSTAMP:20260423T102125
CREATED:20221010T124048Z
LAST-MODIFIED:20221027T144355Z
UID:10005297-1667995200-1668000600@www.khg-in-bayreuth.de
SUMMARY:Mittagspause für Leib und Seele // Lunch break for body and soul
DESCRIPTION:Jeden Mittwoch feiern wir die Mitte der Woche mit einer besonderen Mittagspause: Wir treffen uns um 12.00 Uhr in der KHG-Kapelle zum Mittagsgebet. Anschließend löffeln wir gemeinsam vegetarische Suppe. \nWer Lust hat\, beim Kochen der Suppe zu helfen\, darf gerne vorher (ab ca. 11.00 Uhr) in der KHG-Küche vorbeikommen. Auch eigene Rezepte sind gerne gesehen! \nEvery Wednesday we celebrate the middle of the week with a special lunch break: we meet  at 12.00 in the KHG chapel for midday prayer. Afterwards we spoon vegetarian soup together. \nAnyone who would like to help make the soup is welcome to come to the KHG kitchen beforehand (from about 11.00 a.m.). Your own recipes are also welcome!
URL:https://www.khg-in-bayreuth.de/event/mittagspause-fuer-leib-und-seele-lunch-break-for-body-and-soul-3/2022-11-09/
LOCATION:Emil-Warburg-Weg 17\, Bayreuth\, 95447\, Deutschland
END:VEVENT
BEGIN:VEVENT
DTSTART;TZID=Europe/Berlin:20221109T150000
DTEND;TZID=Europe/Berlin:20221109T163000
DTSTAMP:20260423T102125
CREATED:20221025T151859Z
LAST-MODIFIED:20221025T151859Z
UID:10005114-1668006000-1668011400@www.khg-in-bayreuth.de
SUMMARY:Sprachcafé Deutsch // German language café
DESCRIPTION:Studierende der Universität Bayreuth organisieren ehrenamtlich Deutsch-Sprachkurse für Geflüchtete und internationale Studierende. Am Mittwoch gib es statt regulärem Unterricht ein Sprachcafé\, um Konversation zu üben. Kommt einfach vorbei! \nStudents of Bayreuth University organise volunteer German language courses for refugees and international Students. On Wednesday\, instead of regular classes there’ll be a German language café to practice conversation. Come along!
URL:https://www.khg-in-bayreuth.de/event/sprachcafe-deutsch-german-language-cafe/2022-11-09/
LOCATION:KHG Bayreuth\, Emil-Warburg-Weg 17\, KHG Bayreuth\, 95447\, Deutschland
END:VEVENT
BEGIN:VEVENT
DTSTART;TZID=Europe/Berlin:20221109T190000
DTEND;TZID=Europe/Berlin:20221109T210000
DTSTAMP:20260423T102125
CREATED:20221025T152847Z
LAST-MODIFIED:20221025T152847Z
UID:10005236-1668020400-1668027600@www.khg-in-bayreuth.de
SUMMARY:KHG-Café: Salsa & mehr // KHG Café: Salsa & more
DESCRIPTION:Every Wednesday our students organize a café with dance classes (mostly Salsa and Bachata\, but also others\, e.g. Latin American fitness dance similar to Zumba). Welcome! \nJeden Mittwoch organisieren internationale Studierende einen gemütlichen Abend mit Tanzunterricht in der KHG (in englischer Sprache). Meisten wird Salsa oder Bachata getanzt\, aber auch z. B. Gymnastiktänze ähnlich dem Zumba. Herzlich willkommen!
URL:https://www.khg-in-bayreuth.de/event/khg-cafe-salsa-mehr-khg-cafe-salsa-more/2022-11-09/
LOCATION:KHG Bayreuth\, Emil-Warburg-Weg 17\, KHG Bayreuth\, 95447\, Deutschland
END:VEVENT
END:VCALENDAR