BEGIN:VCALENDAR
VERSION:2.0
PRODID:-//KHG Bayreuth - ECPv6.15.3//NONSGML v1.0//EN
CALSCALE:GREGORIAN
METHOD:PUBLISH
X-ORIGINAL-URL:https://www.khg-in-bayreuth.de
X-WR-CALDESC:Veranstaltungen für KHG Bayreuth
REFRESH-INTERVAL;VALUE=DURATION:PT1H
X-Robots-Tag:noindex
X-PUBLISHED-TTL:PT1H
BEGIN:VTIMEZONE
TZID:Europe/Berlin
BEGIN:DAYLIGHT
TZOFFSETFROM:+0100
TZOFFSETTO:+0200
TZNAME:CEST
DTSTART:20220327T010000
END:DAYLIGHT
BEGIN:STANDARD
TZOFFSETFROM:+0200
TZOFFSETTO:+0100
TZNAME:CET
DTSTART:20221030T010000
END:STANDARD
END:VTIMEZONE
BEGIN:VEVENT
DTSTART;TZID=Europe/Berlin:20221115T180000
DTEND;TZID=Europe/Berlin:20221115T193000
DTSTAMP:20260423T113107
CREATED:20221012T230148Z
LAST-MODIFIED:20221020T151110Z
UID:10004977-1668535200-1668540600@www.khg-in-bayreuth.de
SUMMARY:"Gospelchor Bayreuth" // "Gospel Choir Bayreuth"
DESCRIPTION:Unser “Gospelchor Bayreuth”\, der ökumenische Gospelchor von KHG und ESG\, probt jeden Dienstag in der KHG. Neue Sänger*innen sind jederzeit herzlich willkommen! \n\nOur “Gospelchor Bayreuth”\, the ecumenical gospel choir of KHG and ESG\, rehearses every Tuesday in the KHG. New singers are always welcome!
URL:https://www.khg-in-bayreuth.de/event/probe-des-gospelchor-bayreuth-rehearsal-of-our-gospel-choir-bayreuth/2022-11-15/
LOCATION:KHG Bayreuth\, Emil-Warburg-Weg 17\, KHG Bayreuth\, 95447\, Deutschland
END:VEVENT
BEGIN:VEVENT
DTSTART;TZID=Europe/Berlin:20221115T190000
DTEND;TZID=Europe/Berlin:20221115T220000
DTSTAMP:20260423T113107
CREATED:20220809T172233Z
LAST-MODIFIED:20221017T131550Z
UID:10004870-1668538800-1668549600@www.khg-in-bayreuth.de
SUMMARY:KHG-Barabend: Krimidinner 3.0
DESCRIPTION:Während ein mehrgängiges Menü in elegantem Ambiente serviert wird\, schlüpfen alle Teilnehmenden in eine Rolle aus einer Kriminalgeschichte. Nun gilt es herauszufinden\, wer von den Anwesenden ein Mörder oder eine Mörderin ist! \nTeilnahmebeitrag: 4 Euro\, Anmeldung bis 11.11. per E-Mail \nWhile a multi-course menu is served in an elegant ambience\, all participants slip into a role from a crime story. Now the task is to find out which of the participants is a murderer or murderess! \nParticipation fee: 4 euros\, registration by 11.11. by e-mail.
URL:https://www.khg-in-bayreuth.de/event/khg-barabend-krimidinner-3-0/
LOCATION:KHG Bayreuth\, Emil-Warburg-Weg 17\, KHG Bayreuth\, 95447\, Deutschland
END:VEVENT
END:VCALENDAR