BEGIN:VCALENDAR
VERSION:2.0
PRODID:-//KHG Bayreuth - ECPv6.15.3//NONSGML v1.0//EN
CALSCALE:GREGORIAN
METHOD:PUBLISH
X-ORIGINAL-URL:https://www.khg-in-bayreuth.de
X-WR-CALDESC:Veranstaltungen für KHG Bayreuth
REFRESH-INTERVAL;VALUE=DURATION:PT1H
X-Robots-Tag:noindex
X-PUBLISHED-TTL:PT1H
BEGIN:VTIMEZONE
TZID:Europe/Berlin
BEGIN:DAYLIGHT
TZOFFSETFROM:+0100
TZOFFSETTO:+0200
TZNAME:CEST
DTSTART:20220327T010000
END:DAYLIGHT
BEGIN:STANDARD
TZOFFSETFROM:+0200
TZOFFSETTO:+0100
TZNAME:CET
DTSTART:20221030T010000
END:STANDARD
END:VTIMEZONE
BEGIN:VEVENT
DTSTART;TZID=Europe/Berlin:20221121T070000
DTEND;TZID=Europe/Berlin:20221121T083000
DTSTAMP:20260423T115446
CREATED:20220914T105650Z
LAST-MODIFIED:20220914T110742Z
UID:10004894-1669014000-1669019400@www.khg-in-bayreuth.de
SUMMARY:Frühschicht mit Frühstück // Morning prayer with breakfast
DESCRIPTION:Zweiwöchentlich am Montag treffen wir uns während der Vorlesungszeit um 07:00 Uhr zu einer kurzen Morgenandacht mit anschl. Frühstück in der KHG. An den dazwischenliegenden Montagen seid Ihr sehr herzlich zum “Bet- und Breakfast” in der ESG eingeladen!\nEvery two weeks on Monday we meet during the lecture period at 7:00 a.m. for a short morning prayer followed by breakfast in the KHG. On the intervening Mondays you are cordially invited to the “Prayer and Breakfast” in the ESG!
URL:https://www.khg-in-bayreuth.de/event/fruehschicht-mit-fruehstueck-morning-prayer-with-breakfast-4/
END:VEVENT
BEGIN:VEVENT
DTSTART;TZID=Europe/Berlin:20221121T180000
DTEND;TZID=Europe/Berlin:20221121T210000
DTSTAMP:20260423T115446
CREATED:20221012T224948Z
LAST-MODIFIED:20221012T225502Z
UID:10004912-1669053600-1669064400@www.khg-in-bayreuth.de
SUMMARY:Theatergruppe "Die Schwarzen Schafe" // Theatre group "The Black Sheep"
DESCRIPTION:Die legendären “Schwarzen Schafe” treffen sich jeden Montag in der KHG. Neueinsteiger*innen sind besonders am Anfang des Semesters herzlich willkommen! \nDenn: Zu Beginn des Semesters suchen alle gemeinsam ein Stück aus\, danach wird regelmäßig geprobt. Am Semesterende wird die KHG dann zur Bühne für die Aufführung des Stücks. \nBeim ersten Treffen am 24. Oktober gibt es eine Besonderheit: Nach einer Kennenlern- und Spielephase (ab 18.00 Uhr) findet ab 19.30 Uhr die Vollversammlung des Vereins “Schwarze Schafe e.V.” mit Vorstandswahlen statt. Die eigentliche Arbeit am Stück beginnt dann in der nächsten Sitzung am 31. Oktober. \n\nOur legendary “Black Sheep” meet every Monday in the KHG. Newcomers are especially welcome at the beginning of the semester! \nBecause: At the beginning of the semester\, everyone chooses a play together and then rehearses regularly. At the end of the semester\, the KHG becomes the stage for the performance of the play. \nAt the first meeting on 24 October there will be a special feature: after a phase of getting to know each other and playing games (from 6 p.m.)\, the general meeting of the “Schwarze Schafe e.V.” association will take place from 7.30 p.m. with elections to the board. The actual work on the play will then begin at the next meeting on 31 October. \n 
URL:https://www.khg-in-bayreuth.de/event/theatergruppe-die-schwarzen-schafe-theatre-group-the-black-sheep/2022-11-21/
LOCATION:KHG Bayreuth\, Emil-Warburg-Weg 17\, KHG Bayreuth\, 95447\, Deutschland
END:VEVENT
END:VCALENDAR