BEGIN:VCALENDAR
VERSION:2.0
PRODID:-//KHG Bayreuth - ECPv6.15.3//NONSGML v1.0//EN
CALSCALE:GREGORIAN
METHOD:PUBLISH
X-ORIGINAL-URL:https://www.khg-in-bayreuth.de
X-WR-CALDESC:Veranstaltungen für KHG Bayreuth
REFRESH-INTERVAL;VALUE=DURATION:PT1H
X-Robots-Tag:noindex
X-PUBLISHED-TTL:PT1H
BEGIN:VTIMEZONE
TZID:Europe/Berlin
BEGIN:DAYLIGHT
TZOFFSETFROM:+0100
TZOFFSETTO:+0200
TZNAME:CEST
DTSTART:20220327T010000
END:DAYLIGHT
BEGIN:STANDARD
TZOFFSETFROM:+0200
TZOFFSETTO:+0100
TZNAME:CET
DTSTART:20221030T010000
END:STANDARD
END:VTIMEZONE
BEGIN:VEVENT
DTSTART;TZID=Europe/Berlin:20221122T180000
DTEND;TZID=Europe/Berlin:20221122T193000
DTSTAMP:20260423T114956
CREATED:20221012T230148Z
LAST-MODIFIED:20221020T151110Z
UID:10004978-1669140000-1669145400@www.khg-in-bayreuth.de
SUMMARY:"Gospelchor Bayreuth" // "Gospel Choir Bayreuth"
DESCRIPTION:Unser “Gospelchor Bayreuth”\, der ökumenische Gospelchor von KHG und ESG\, probt jeden Dienstag in der KHG. Neue Sänger*innen sind jederzeit herzlich willkommen! \n\nOur “Gospelchor Bayreuth”\, the ecumenical gospel choir of KHG and ESG\, rehearses every Tuesday in the KHG. New singers are always welcome!
URL:https://www.khg-in-bayreuth.de/event/probe-des-gospelchor-bayreuth-rehearsal-of-our-gospel-choir-bayreuth/2022-11-22/
LOCATION:KHG Bayreuth\, Emil-Warburg-Weg 17\, KHG Bayreuth\, 95447\, Deutschland
END:VEVENT
BEGIN:VEVENT
DTSTART;TZID=Europe/Berlin:20221122T200000
DTEND;TZID=Europe/Berlin:20221122T220000
DTSTAMP:20260423T114956
CREATED:20220809T172534Z
LAST-MODIFIED:20221017T132343Z
UID:10004872-1669147200-1669154400@www.khg-in-bayreuth.de
SUMMARY:KHG-Barabend: Adventskranzbinden // Advent wreath making
DESCRIPTION:Kurz vor Beginn der Adventszeit wollen wir gemeinsam Adventskränze binden\, damit wir in der Adventszeit bei uns zu Hause die Adventskerzen entzünden können. Materialien werden zur Verfügung gestellt.\nAnmeldung bis 17.11. unter khg@uni-bayreuth.de; Unkostenbeitrag: 5\,00 Euro \nJust before the beginning of Advent\, we want to make Advent wreaths together so that we can light the Advent candles in our homes during Advent. Materials will be provided.\nRegistration until 17.11. at khg@uni-bayreuth.de; contribution towards expenses: 5\,00 Euro
URL:https://www.khg-in-bayreuth.de/event/khg-barabend-adventskranzbinden/
LOCATION:KHG Bayreuth\, Emil-Warburg-Weg 17\, Bayreuth\, 95447\, Deutschland
END:VEVENT
END:VCALENDAR