BEGIN:VCALENDAR
VERSION:2.0
PRODID:-//KHG Bayreuth - ECPv6.15.3//NONSGML v1.0//EN
CALSCALE:GREGORIAN
METHOD:PUBLISH
X-ORIGINAL-URL:https://www.khg-in-bayreuth.de
X-WR-CALDESC:Veranstaltungen für KHG Bayreuth
REFRESH-INTERVAL;VALUE=DURATION:PT1H
X-Robots-Tag:noindex
X-PUBLISHED-TTL:PT1H
BEGIN:VTIMEZONE
TZID:Europe/Berlin
BEGIN:DAYLIGHT
TZOFFSETFROM:+0100
TZOFFSETTO:+0200
TZNAME:CEST
DTSTART:20220327T010000
END:DAYLIGHT
BEGIN:STANDARD
TZOFFSETFROM:+0200
TZOFFSETTO:+0100
TZNAME:CET
DTSTART:20221030T010000
END:STANDARD
END:VTIMEZONE
BEGIN:VEVENT
DTSTART;TZID=Europe/Berlin:20221124T100000
DTEND;TZID=Europe/Berlin:20221124T113000
DTSTAMP:20260423T102306
CREATED:20221025T151008Z
LAST-MODIFIED:20221025T151008Z
UID:10005054-1669284000-1669289400@www.khg-in-bayreuth.de
SUMMARY:Deutschkurs // German language class
DESCRIPTION:Studierende der Universität Bayreuth organisieren ehrenamtlich Deutsch-Sprachkurse für Geflüchtete und internationale Studierende. Kommt einfach vorbei! \nStudents of Bayreuth University organise volunteer German language courses for refugees and international Students. Come along!
URL:https://www.khg-in-bayreuth.de/event/deutschkurs-german-language-class-2/2022-11-24/
LOCATION:KHG Bayreuth\, Emil-Warburg-Weg 17\, KHG Bayreuth\, 95447\, Deutschland
END:VEVENT
BEGIN:VEVENT
DTSTART;TZID=Europe/Berlin:20221124T200000
DTEND;TZID=Europe/Berlin:20221124T230000
DTSTAMP:20260423T102306
CREATED:20221012T230726Z
LAST-MODIFIED:20221013T144632Z
UID:10004961-1669320000-1669330800@www.khg-in-bayreuth.de
SUMMARY:Swahili Chor Bayreuth // Suahili Choir
DESCRIPTION:Jeden Donnerstag probt unser Swahili-Chor afrikanische Lieder in der KHG. Neue Sänger*innen sind jederzeit herzlich willkommen! \n\nEvery Thursday\, our Suahili choir rehearses African songs in the KHG. New singers are always welcome!
URL:https://www.khg-in-bayreuth.de/event/probe-des-swahili-chor-bayreuth-suahili-choir-rehearsal/2022-11-24/
LOCATION:KHG Bayreuth\, Emil-Warburg-Weg 17\, KHG Bayreuth\, 95447\, Deutschland
END:VEVENT
END:VCALENDAR