BEGIN:VCALENDAR
VERSION:2.0
PRODID:-//KHG Bayreuth - ECPv6.15.3//NONSGML v1.0//EN
CALSCALE:GREGORIAN
METHOD:PUBLISH
X-ORIGINAL-URL:https://www.khg-in-bayreuth.de
X-WR-CALDESC:Veranstaltungen für KHG Bayreuth
REFRESH-INTERVAL;VALUE=DURATION:PT1H
X-Robots-Tag:noindex
X-PUBLISHED-TTL:PT1H
BEGIN:VTIMEZONE
TZID:Europe/Berlin
BEGIN:DAYLIGHT
TZOFFSETFROM:+0100
TZOFFSETTO:+0200
TZNAME:CEST
DTSTART:20220327T010000
END:DAYLIGHT
BEGIN:STANDARD
TZOFFSETFROM:+0200
TZOFFSETTO:+0100
TZNAME:CET
DTSTART:20221030T010000
END:STANDARD
END:VTIMEZONE
BEGIN:VEVENT
DTSTART;TZID=Europe/Berlin:20221125T140000
DTEND;TZID=Europe/Berlin:20221125T153000
DTSTAMP:20260423T102404
CREATED:20221025T152106Z
LAST-MODIFIED:20221025T152106Z
UID:10005177-1669384800-1669390200@www.khg-in-bayreuth.de
SUMMARY:Deutschkurs // German language class
DESCRIPTION:Studierende der Universität Bayreuth organisieren ehrenamtlich Deutsch-Sprachkurse für Geflüchtete und internationale Studierende. Kommt einfach vorbei! \nStudents of Bayreuth University organise volunteer German language courses for refugees and international Students. Come along!
URL:https://www.khg-in-bayreuth.de/event/deutschkurs-german-language-class-3/2022-11-25/
LOCATION:KHG Bayreuth\, Emil-Warburg-Weg 17\, KHG Bayreuth\, 95447\, Deutschland
END:VEVENT
BEGIN:VEVENT
DTSTART;TZID=Europe/Berlin:20221125T200000
DTEND;TZID=Europe/Berlin:20221125T220000
DTSTAMP:20260423T102404
CREATED:20221121T224358Z
LAST-MODIFIED:20221121T224739Z
UID:10005313-1669406400-1669413600@www.khg-in-bayreuth.de
SUMMARY:Chinesischer Kunstabend // Chinese craft evening
DESCRIPTION:Deutsch-chinesischer Stammtisch: Herzliche Einladung zum zweiten chinesischen Kunstabend!  \nWenn entweder das Studium oder Dein Leben Dich lange in Atem gehalten hat\, dann komm zu uns und bastel einen schönen Traum in einer künstlerischen Welt. Wir leiten Euch an\, Lotus aus Papier zu falten und chinesische Knoten zu knüpfen.  \n\nGerman-Chinese Stammtisch: A warm invitation to the second Chinese art evening! \nIf either your studies or your life has kept you busy for a long time\, come and join us and make a beautiful dream in an artistic world. We will guide you to fold lotus out of paper and tie Chinese knots.
URL:https://www.khg-in-bayreuth.de/event/chinesischer-kunstabend-chinese-craft-evening/
LOCATION:KHG Bayreuth\, Emil-Warburg-Weg 17\, KHG Bayreuth\, 95447\, Deutschland
END:VEVENT
END:VCALENDAR