BEGIN:VCALENDAR
VERSION:2.0
PRODID:-//KHG Bayreuth - ECPv6.15.3//NONSGML v1.0//EN
CALSCALE:GREGORIAN
METHOD:PUBLISH
X-ORIGINAL-URL:https://www.khg-in-bayreuth.de
X-WR-CALDESC:Veranstaltungen für KHG Bayreuth
REFRESH-INTERVAL;VALUE=DURATION:PT1H
X-Robots-Tag:noindex
X-PUBLISHED-TTL:PT1H
BEGIN:VTIMEZONE
TZID:Europe/Berlin
BEGIN:DAYLIGHT
TZOFFSETFROM:+0100
TZOFFSETTO:+0200
TZNAME:CEST
DTSTART:20220327T010000
END:DAYLIGHT
BEGIN:STANDARD
TZOFFSETFROM:+0200
TZOFFSETTO:+0100
TZNAME:CET
DTSTART:20221030T010000
END:STANDARD
END:VTIMEZONE
BEGIN:VEVENT
DTSTART;TZID=Europe/Berlin:20221129T180000
DTEND;TZID=Europe/Berlin:20221129T193000
DTSTAMP:20260423T083243
CREATED:20221012T230148Z
LAST-MODIFIED:20221020T151110Z
UID:10004979-1669744800-1669750200@www.khg-in-bayreuth.de
SUMMARY:"Gospelchor Bayreuth" // "Gospel Choir Bayreuth"
DESCRIPTION:Unser “Gospelchor Bayreuth”\, der ökumenische Gospelchor von KHG und ESG\, probt jeden Dienstag in der KHG. Neue Sänger*innen sind jederzeit herzlich willkommen! \n\nOur “Gospelchor Bayreuth”\, the ecumenical gospel choir of KHG and ESG\, rehearses every Tuesday in the KHG. New singers are always welcome!
URL:https://www.khg-in-bayreuth.de/event/probe-des-gospelchor-bayreuth-rehearsal-of-our-gospel-choir-bayreuth/2022-11-29/
LOCATION:KHG Bayreuth\, Emil-Warburg-Weg 17\, KHG Bayreuth\, 95447\, Deutschland
END:VEVENT
BEGIN:VEVENT
DTSTART;TZID=Europe/Berlin:20221129T200000
DTEND;TZID=Europe/Berlin:20221129T220000
DTSTAMP:20260423T083243
CREATED:20220809T173025Z
LAST-MODIFIED:20221124T155618Z
UID:10004874-1669752000-1669759200@www.khg-in-bayreuth.de
SUMMARY:KHG-Barabend: Ukraine: Europas Krieg // Ukraine: Europe's war
DESCRIPTION:Ein Abend mit dem Fotografen und Kriegsberichterstatter Till Mayer. \nMenschen in Luftschutzbunkern\, Soldat*innen an der Front\, Kriegsverletzungen\, Leichen und Trümmer\, Trauer und Verzweiflung; aber auch Leben\, die trotzdem weitergehen\, Zusammenhalt\, Hoffnung und Mut: Der Fotograf Till Mayer hat alles gesehen. Seit mehreren Jahren reist er regelmäßig in die Ukraine\, um aus dem Kriegsgebiet zu berichten. Seine Bilder erzählen nicht von großer Politik\, sondern von persönlichen Schicksalen und von Menschen\, die mitten im Krieg ihre einzigartige Würde bewahren. \nKurz nach der Rückkehr von seiner jüngsten Recherchereise wird er von der aktuellen Situation in der Ukraine berichten und uns in seinen Bildern am Leben der Menschen vor Ort teilhaben lassen. \nAls Rahmenprogramm werden ukrainische Frauen Lieder aus ihrer Heimat singen\, auf der Bandura (einem traditionellen Saiteninstrument) spielen und auch etwas Leckeres kochen. \nDer Eintritt ist frei\, Spenden für Hilfsprojekte in der Ukraine sind willkommen! \n\nAn evening with the photographer and war correspondent Till Mayer. \nPeople in air-raid shelters\, soldiers at the front\, war wounds\, corpses and rubble\, grief and despair; but also lives that nevertheless go on\, cohesion\, hope and courage: photographer Till Mayer has seen it all. For several years\, he has been traveling regularly to Ukraine to report from the war zone. His pictures do not tell of big politics\, but of personal fates and of people who retain their unique dignity in the midst of war. \nShortly after returning from his latest research trip\, he will report on the current situation in Ukraine and let us participate in the lives of the local people through his pictures. \nAs a supporting programme\, Ukrainian women will sing songs from their homeland\, play the bandura (a traditional stringed instrument) and also cook something delicious. \nAdmission is free\, donations for aid projects in Ukraine are welcome!
URL:https://www.khg-in-bayreuth.de/event/khg-barabend-spontanabend/
LOCATION:KHG Bayreuth\, Emil-Warburg-Weg 17\, Bayreuth\, 95447\, Deutschland
END:VEVENT
END:VCALENDAR