BEGIN:VCALENDAR
VERSION:2.0
PRODID:-//KHG Bayreuth - ECPv6.15.3//NONSGML v1.0//EN
CALSCALE:GREGORIAN
METHOD:PUBLISH
X-WR-CALNAME:KHG Bayreuth
X-ORIGINAL-URL:https://www.khg-in-bayreuth.de
X-WR-CALDESC:Veranstaltungen für KHG Bayreuth
REFRESH-INTERVAL;VALUE=DURATION:PT1H
X-Robots-Tag:noindex
X-PUBLISHED-TTL:PT1H
BEGIN:VTIMEZONE
TZID:Europe/Berlin
BEGIN:DAYLIGHT
TZOFFSETFROM:+0100
TZOFFSETTO:+0200
TZNAME:CEST
DTSTART:20220327T010000
END:DAYLIGHT
BEGIN:STANDARD
TZOFFSETFROM:+0200
TZOFFSETTO:+0100
TZNAME:CET
DTSTART:20221030T010000
END:STANDARD
END:VTIMEZONE
BEGIN:VEVENT
DTSTART;TZID=Europe/Berlin:20221204T193000
DTEND;TZID=Europe/Berlin:20221204T213000
DTSTAMP:20260423T083702
CREATED:20220809T173510Z
LAST-MODIFIED:20221124T160654Z
UID:10004877-1670182200-1670189400@www.khg-in-bayreuth.de
SUMMARY:Sunday Evening Church im Dubliner Irish Pub
DESCRIPTION:Am Zweiten Advent organisieren KHG und ESG die “Sunday Evening Church” im Dubliner Irish Pub! ☘️🍺🇮🇪 \nGemeinsam mit unserem Gospelchor gestalten wir einen unterhaltsamen und spirituellen Adventsgottesdienst mitten in der Kneipe. Während Ihr ganz normal essen und trinken könnt\, erwarten Euch wieder Impulse zum Nachdenken\, Mitmachaktionen und Adventslieder – und eine kleine Überraschung! \n\nOn the Second Advent\, KHG and ESG organise the “Sunday Evening Church” in the Dublin Irish Pub! ☘️🍺🇮🇪 \nTogether with our gospel choir\, we will be organising an entertaining and spiritual Advent service in the middle of the pub. While you can eat and drink as usual\, you can expect impulses for reflection\, participatory activities and Advent songs – and a little surprise!
URL:https://www.khg-in-bayreuth.de/event/sunday-evening-church-im-dubliner-irish-pub-2/
LOCATION:Dubliner Irish Pub\, Wittelsbacherring 2-4\, Bayreuth\, 95444\, Deutschland
END:VEVENT
END:VCALENDAR