BEGIN:VCALENDAR
VERSION:2.0
PRODID:-//KHG Bayreuth - ECPv6.15.3//NONSGML v1.0//EN
CALSCALE:GREGORIAN
METHOD:PUBLISH
X-WR-CALNAME:KHG Bayreuth
X-ORIGINAL-URL:https://www.khg-in-bayreuth.de
X-WR-CALDESC:Veranstaltungen für KHG Bayreuth
REFRESH-INTERVAL;VALUE=DURATION:PT1H
X-Robots-Tag:noindex
X-PUBLISHED-TTL:PT1H
BEGIN:VTIMEZONE
TZID:Europe/Berlin
BEGIN:DAYLIGHT
TZOFFSETFROM:+0100
TZOFFSETTO:+0200
TZNAME:CEST
DTSTART:20220327T010000
END:DAYLIGHT
BEGIN:STANDARD
TZOFFSETFROM:+0200
TZOFFSETTO:+0100
TZNAME:CET
DTSTART:20221030T010000
END:STANDARD
END:VTIMEZONE
BEGIN:VEVENT
DTSTART;TZID=Europe/Berlin:20221216T140000
DTEND;TZID=Europe/Berlin:20221216T153000
DTSTAMP:20260423T095446
CREATED:20221025T152106Z
LAST-MODIFIED:20221025T152106Z
UID:10005180-1671199200-1671204600@www.khg-in-bayreuth.de
SUMMARY:Deutschkurs // German language class
DESCRIPTION:Studierende der Universität Bayreuth organisieren ehrenamtlich Deutsch-Sprachkurse für Geflüchtete und internationale Studierende. Kommt einfach vorbei! \nStudents of Bayreuth University organise volunteer German language courses for refugees and international Students. Come along!
URL:https://www.khg-in-bayreuth.de/event/deutschkurs-german-language-class-3/2022-12-16/
LOCATION:KHG Bayreuth\, Emil-Warburg-Weg 17\, KHG Bayreuth\, 95447\, Deutschland
END:VEVENT
BEGIN:VEVENT
DTSTART;TZID=Europe/Berlin:20221216T200000
DTEND;TZID=Europe/Berlin:20221216T210000
DTSTAMP:20260423T095446
CREATED:20220809T174123Z
LAST-MODIFIED:20221213T010054Z
UID:10004881-1671220800-1671224400@www.khg-in-bayreuth.de
SUMMARY:Ökumenische Waldweihnacht // Christmas in the woods
DESCRIPTION:Wir wandern gemeinsam in den Wald und feiern einen Gottesdienst mit Adventsliedern und Adventsgeschichte am Feuer. Anschließend gibt es Punsch und Glühwein. \nTreffpunkt: 20.00 Uhr am Festspielhaus. Zieht Euch warm und wetterfest an! \nWe hike into the woods together and celebrate a service with Advent songs and Advent story at the fire. Afterwards\, there’ll be punch and mulled wine. \nMeeting: 20.00 hrs at the Festspielhaus. Dress yourselves warm and weatherproof!
URL:https://www.khg-in-bayreuth.de/event/oekumenische-waldweihnacht-2/
LOCATION:Emil-Warburg-Weg 17\, Bayreuth\, 95447\, Deutschland
END:VEVENT
END:VCALENDAR