BEGIN:VCALENDAR
VERSION:2.0
PRODID:-//KHG Bayreuth - ECPv6.15.3//NONSGML v1.0//EN
CALSCALE:GREGORIAN
METHOD:PUBLISH
X-ORIGINAL-URL:https://www.khg-in-bayreuth.de
X-WR-CALDESC:Veranstaltungen für KHG Bayreuth
REFRESH-INTERVAL;VALUE=DURATION:PT1H
X-Robots-Tag:noindex
X-PUBLISHED-TTL:PT1H
BEGIN:VTIMEZONE
TZID:Europe/Berlin
BEGIN:DAYLIGHT
TZOFFSETFROM:+0100
TZOFFSETTO:+0200
TZNAME:CEST
DTSTART:20220327T010000
END:DAYLIGHT
BEGIN:STANDARD
TZOFFSETFROM:+0200
TZOFFSETTO:+0100
TZNAME:CET
DTSTART:20221030T010000
END:STANDARD
END:VTIMEZONE
BEGIN:VEVENT
DTSTART;TZID=Europe/Berlin:20221218T193000
DTEND;TZID=Europe/Berlin:20221218T213000
DTSTAMP:20260423T084235
CREATED:20220809T174257Z
LAST-MODIFIED:20221124T162040Z
UID:10004882-1671391800-1671399000@www.khg-in-bayreuth.de
SUMMARY:Sunday Evening Church im Dubliner Irish Pub
DESCRIPTION:An den Adventssonntagen seid Ihr wieder sehr herzlich eingeladen zur “Sunday Evening Church” im Dubliner Irish Pub. ☘️🍺🇮🇪 \nGemeinsam mit vielen anderen katholischen und evangelischen Gemeinden in Bayreuth gestalten wir besondere Adventsandachten. Euch erwarten Impulse zum Nachdenken\, Mitmachaktionen und Adventslieder. \nDabei dürft Ihr ganz normal essen und trinken. Vorher besteht ab 16.00 Uhr die Möglichkeit\, das Halbfinale\nder Männer-Fußball-WM im Dubliner zu sehen. \n\nYou’re welcome to our “Sunday Evening Church” in the Dubliner Irish Pub Bayreuth! ☘️🍺🇮🇪 \nTogether with various other Catholic and Protestant communities in Bayreuth we celebrate somewhat different Advent worships. In German\, because this is a city-wide event not only for students. \nYou’re welcome to eat and drink during the evening. Before that\, from 4pm\, there will be the chance to watch the semi-final of the Men’s World Cup in the Dubliner.
URL:https://www.khg-in-bayreuth.de/event/sunday-evening-church-im-dubliner-irish-pub-4/
LOCATION:Dubliner Irish Pub\, Wittelsbacherring 2-4\, Bayreuth\, 95444\, Deutschland
END:VEVENT
END:VCALENDAR